BEGIN:VCALENDAR
VERSION:2.0
PRODID:-//ChamberMaster//Event Calendar 2.0//EN
METHOD:PUBLISH
X-PUBLISHED-TTL:P3D
REFRESH-INTERVAL:P3D
CALSCALE:GREGORIAN
BEGIN:VEVENT
DTSTART:20191221T210000Z
DTEND:20191221T230000Z
X-MICROSOFT-CDO-ALLDAYEVENT:FALSE
SUMMARY:Christmas Cantata
DESCRIPTION:Christmas Cantata by Elk Lake Community Choir  You don't want to miss this exciting event!
X-ALT-DESC;FMTTYPE=text/html:Christmas Cantata by Elk Lake Community Choir&nbsp\; You don&#39\;t want to miss this exciting event! &nbsp\;
LOCATION:First Presbyterian Church 404 Spruce St\, ER
UID:e.2409.22433
SEQUENCE:3
DTSTAMP:20260419T140215Z
URL:https://business.elkrapidschamber.org/events/details/christmas-cantata-22433
END:VEVENT

END:VCALENDAR
