BEGIN:VCALENDAR
VERSION:2.0
PRODID:-//ChamberMaster//Event Calendar 2.0//EN
METHOD:PUBLISH
X-PUBLISHED-TTL:P3D
REFRESH-INTERVAL:P3D
CALSCALE:GREGORIAN
BEGIN:VEVENT
DTSTART:20210213T170000Z
DTEND:20210213T210000Z
X-MICROSOFT-CDO-ALLDAYEVENT:FALSE
SUMMARY:Chili Cook-Off Downtown Elk Rapids
DESCRIPTION:Come downtown Elk Rapids for the annual Chili Cook-Off.\n\nTickets will be available at Town Club\, Nifty Things\, Cellar 152\, and My Michigan Roots.  $5.00 each.
X-ALT-DESC;FMTTYPE=text/html:Come downtown Elk Rapids for the annual Chili Cook-Off.<br />\nTickets will be available at Town Club\, Nifty Things\, Cellar 152\, and My Michigan Roots.&nbsp\; $5.00 each.
LOCATION:Downtown Elk Rapids River Street
UID:e.2409.24485
SEQUENCE:3
DTSTAMP:20260421T205609Z
URL:https://business.elkrapidschamber.org/events/details/chili-cook-off-downtown-elk-rapids-24485
END:VEVENT

END:VCALENDAR
