BEGIN:VCALENDAR
VERSION:2.0
PRODID:-//ChamberMaster//Event Calendar 2.0//EN
METHOD:PUBLISH
X-PUBLISHED-TTL:P3D
REFRESH-INTERVAL:P3D
CALSCALE:GREGORIAN
BEGIN:VEVENT
DTSTART:20190216T190000Z
DTEND:20190216T220000Z
X-MICROSOFT-CDO-ALLDAYEVENT:FALSE
SUMMARY:Chili Cook-off
DESCRIPTION:Join us for the 2nd annual Downtown Elk Rapids Chili Cook-Off Saturday\, February 16\, 2019. Take a break from your President's Weekend shenanigans and fill up on chili made by your favorite Elk Rapids Merchants and Restaurants! Tickets are just $5 on the day of the event\, or buy them early and save! Tickets available at Elk Rapids Area Chamber of Commerce\, Nifty Things\, and Cellar 152 Pub and Provisions. Sample each chili\, then vote for your favorite.
X-ALT-DESC;FMTTYPE=text/html:<span style="display: inline !important\; float: none\; background-color: transparent\; color: rgb(29\, 33\, 41)\; font-family: Helvetica\,Arial\,sans-serif\; font-size: 14px\; font-style: normal\; font-variant: normal\; font-weight: 400\; letter-spacing: normal\; orphans: 2\; text-align: left\; text-decoration: none\; text-indent: 0px\; text-transform: none\; -webkit-text-stroke-width: 0px\; white-space: pre-wrap\; word-spacing: 0px\;">Join us for the 2nd annual </span><a href="https://www.facebook.com/DowtownElkRapids/" style="background-color: transparent\; color: rgb(54\, 88\, 153)\; cursor: pointer\; font-family: Helvetica\,Arial\,sans-serif\; font-size: 14px\; font-style: normal\; font-variant: normal\; font-weight: 400\; letter-spacing: normal\; orphans: 2\; text-align: left\; text-decoration: none\; text-indent: 0px\; text-transform: none\; -webkit-text-stroke-width: 0px\; white-space: pre-wrap\; word-spacing: 0px\;" target="_blank">Downtown Elk Rapids</a><span style="display: inline !important\; float: none\; background-color: transparent\; color: rgb(29\, 33\, 41)\; font-family: Helvetica\,Arial\,sans-serif\; font-size: 14px\; font-style: normal\; font-variant: normal\; font-weight: 400\; letter-spacing: normal\; orphans: 2\; text-align: left\; text-decoration: none\; text-indent: 0px\; text-transform: none\; -webkit-text-stroke-width: 0px\; white-space: pre-wrap\; word-spacing: 0px\;"> Chili Cook-Off Saturday\, February 16\, 2019. Take a break from your President&#39\;s Weekend shenanigans and fill up on chili made by your favorite Elk Rapids Merchants and Restaurants! Tickets are just $5 on the day of the event\, or buy them early and save! Tickets available at </span><a href="https://www.facebook.com/elkrapidschamber/" style="background-color: transparent\; color: rgb(54\, 88\, 153)\; cursor: pointer\; font-family: Helvetica\,Arial\,sans-serif\; font-size: 14px\; font-style: normal\; font-variant: normal\; font-weight: 400\; letter-spacing: normal\; orphans: 2\; text-align: left\; text-decoration: none\; text-indent: 0px\; text-transform: none\; -webkit-text-stroke-width: 0px\; white-space: pre-wrap\; word-spacing: 0px\;" target="_blank">Elk Rapids Area Chamber of Commerce</a><span style="display: inline !important\; float: none\; background-color: transparent\; color: rgb(29\, 33\, 41)\; font-family: Helvetica\,Arial\,sans-serif\; font-size: 14px\; font-style: normal\; font-variant: normal\; font-weight: 400\; letter-spacing: normal\; orphans: 2\; text-align: left\; text-decoration: none\; text-indent: 0px\; text-transform: none\; -webkit-text-stroke-width: 0px\; white-space: pre-wrap\; word-spacing: 0px\;">\, </span><a href="https://www.facebook.com/NiftyThingsOnline/" style="background-color: transparent\; color: rgb(54\, 88\, 153)\; cursor: pointer\; font-family: Helvetica\,Arial\,sans-serif\; font-size: 14px\; font-style: normal\; font-variant: normal\; font-weight: 400\; letter-spacing: normal\; orphans: 2\; text-align: left\; text-decoration: none\; text-indent: 0px\; text-transform: none\; -webkit-text-stroke-width: 0px\; white-space: pre-wrap\; word-spacing: 0px\;" target="_blank">Nifty Things</a><span style="display: inline !important\; float: none\; background-color: transparent\; color: rgb(29\, 33\, 41)\; font-family: Helvetica\,Arial\,sans-serif\; font-size: 14px\; font-style: normal\; font-variant: normal\; font-weight: 400\; letter-spacing: normal\; orphans: 2\; text-align: left\; text-decoration: none\; text-indent: 0px\; text-transform: none\; -webkit-text-stroke-width: 0px\; white-space: pre-wrap\; word-spacing: 0px\;">\, and </span><a href="https://www.facebook.com/Cellar152/" style="background-color: transparent\; color: rgb(54\, 88\, 153)\; cursor: pointer\; font-family: Helvetica\,Arial\,sans-serif\; font-size: 14px\; font-style: normal\; font-variant: normal\; font-weight: 400\; letter-spacing: normal\; orphans: 2\; text-align: left\; text-decoration: underline\; text-indent: 0px\; text-transform: none\; -webkit-text-stroke-width: 0px\; white-space: pre-wrap\; word-spacing: 0px\;" target="_blank">Cellar 152 Pub and Provisions</a><span style="display: inline !important\; float: none\; background-color: transparent\; color: rgb(29\, 33\, 41)\; font-family: Helvetica\,Arial\,sans-serif\; font-size: 14px\; font-style: normal\; font-variant: normal\; font-weight: 400\; letter-spacing: normal\; orphans: 2\; text-align: left\; text-decoration: none\; text-indent: 0px\; text-transform: none\; -webkit-text-stroke-width: 0px\; white-space: pre-wrap\; word-spacing: 0px\;">. Sample each chili\, then vote for your favorite.</span>
LOCATION:
UID:e.2409.17974
SEQUENCE:3
DTSTAMP:20260426T022549Z
URL:https://business.elkrapidschamber.org/events/details/chili-cook-off-17974
END:VEVENT

END:VCALENDAR
