BEGIN:VCALENDAR
VERSION:2.0
PRODID:-//ChamberMaster//Event Calendar 2.0//EN
METHOD:PUBLISH
X-PUBLISHED-TTL:P3D
REFRESH-INTERVAL:P3D
CALSCALE:GREGORIAN
BEGIN:VEVENT
DTSTART:20220520T210000Z
DTEND:20220520T230000Z
X-MICROSOFT-CDO-ALLDAYEVENT:FALSE
SUMMARY:Cherryland Middle School Color Run
DESCRIPTION:Walk\, jog\, and run your way toward a healthier life while raising funds for Cherryland Middle School! All funds raised go toward student activities at CMS. The color run is open to EVERYONE in the community and we encourage you to join us. Paper registration copies can be found on the table in the CMS foyer or printed at home. We take cash or check only.\n\nEarly student registration ( on or before 5/4/22) $15\n\nEarly adult registration (on or before 5/4/22) $25\n\nLate student registration (after 5/4/22) $20\n\nLate adult registration (after 5/4/22) $30\n\nRegistration includes a race bib\, color packet\, and t-shirt ONLY if you sign up before 5/4/2. You can pick up your items at the registration table the day of the event. There will be a limited supply of extra t-shirts and color packs available for sale at the event.\n\nEvents\n\nCheck in Time 4:00- 4:45pm\n\nStart Time 5:00pm
X-ALT-DESC;FMTTYPE=text/html:<div class="kvgmc6g5 cxmmr5t8 oygrvhab hcukyx3x c1et5uql" style="overflow-wrap: break-word\; margin: 0px\; font-family: &quot\;Segoe UI Historic&quot\;\, &quot\;Segoe UI&quot\;\, Helvetica\, Arial\, sans-serif\; color: rgb(5\, 5\, 5)\; font-size: 15px\; background-color: rgb(255\, 255\, 255)\; animation-name: none !important\; transition-property: none !important\;">Walk\, jog\, and run your way toward a healthier life while raising funds for Cherryland Middle School! All funds raised go toward student activities at CMS. The color run is open to EVERYONE in the community and we encourage you to join us. Paper registration copies can be found on the table in the CMS foyer or printed at home. We take cash or check only.</div>\n\n<div class="cxmmr5t8 oygrvhab hcukyx3x c1et5uql o9v6fnle" style="overflow-wrap: break-word\; margin: 0.5em 0px 0px\; font-family: &quot\;Segoe UI Historic&quot\;\, &quot\;Segoe UI&quot\;\, Helvetica\, Arial\, sans-serif\; color: rgb(5\, 5\, 5)\; font-size: 15px\; background-color: rgb(255\, 255\, 255)\; animation-name: none !important\; transition-property: none !important\;">Early student registration ( on or before 5/4/22) $15<br style="animation-name: none !important\; transition-property: none !important\;" />\nEarly adult registration (on or before 5/4/22) $25</div>\n\n<div class="cxmmr5t8 oygrvhab hcukyx3x c1et5uql o9v6fnle" style="overflow-wrap: break-word\; margin: 0.5em 0px 0px\; font-family: &quot\;Segoe UI Historic&quot\;\, &quot\;Segoe UI&quot\;\, Helvetica\, Arial\, sans-serif\; color: rgb(5\, 5\, 5)\; font-size: 15px\; background-color: rgb(255\, 255\, 255)\; animation-name: none !important\; transition-property: none !important\;">Late student registration (after 5/4/22) $20<br style="animation-name: none !important\; transition-property: none !important\;" />\nLate adult registration (after 5/4/22) $30</div>\n\n<div class="cxmmr5t8 oygrvhab hcukyx3x c1et5uql o9v6fnle" style="overflow-wrap: break-word\; margin: 0.5em 0px 0px\; font-family: &quot\;Segoe UI Historic&quot\;\, &quot\;Segoe UI&quot\;\, Helvetica\, Arial\, sans-serif\; color: rgb(5\, 5\, 5)\; font-size: 15px\; background-color: rgb(255\, 255\, 255)\; animation-name: none !important\; transition-property: none !important\;">Registration includes a race bib\, color packet\, and t-shirt ONLY if you sign up before 5/4/2. You can pick up your items at the registration table the day of the event. There will be a limited supply of extra t-shirts and color packs available for sale at the event.</div>\n\n<div class="cxmmr5t8 oygrvhab hcukyx3x c1et5uql o9v6fnle" style="overflow-wrap: break-word\; margin: 0.5em 0px 0px\; font-family: &quot\;Segoe UI Historic&quot\;\, &quot\;Segoe UI&quot\;\, Helvetica\, Arial\, sans-serif\; color: rgb(5\, 5\, 5)\; font-size: 15px\; background-color: rgb(255\, 255\, 255)\; animation-name: none !important\; transition-property: none !important\;">Events<br style="animation-name: none !important\; transition-property: none !important\;" />\nCheck in Time 4:00- 4:45pm<br style="animation-name: none !important\; transition-property: none !important\;" />\nStart Time 5:00pm<br />\n&nbsp\;</div>\n
LOCATION:Cherryland Middle School 707 E 3rd St. Elk Rapids MI 49629
UID:e.2409.29559
SEQUENCE:3
DTSTAMP:20260420T202432Z
URL:https://business.elkrapidschamber.org/events/details/cherryland-middle-school-color-run-29559
END:VEVENT

END:VCALENDAR
