BEGIN:VCALENDAR
VERSION:2.0
PRODID:-//ChamberMaster//Event Calendar 2.0//EN
METHOD:PUBLISH
X-PUBLISHED-TTL:P3D
REFRESH-INTERVAL:P3D
CALSCALE:GREGORIAN
BEGIN:VEVENT
DTSTART:20190607T160000Z
DTEND:20190607T200000Z
X-MICROSOFT-CDO-ALLDAYEVENT:FALSE
SUMMARY:Charity Golf Scramble
DESCRIPTION:FORE! FOR FATHERS\n\nHis House to Hold Charity Golf Scramble\n\n \n\nThis year will mark the 2nd annual His House Charity Golf Scramble\, which directly benefits the fathers and families of Northern Michigan. This Scramble will be held on Friday\, June 7th at The Antrim Dells Golf Club & Restaurant\, one of Michigan's premiere courses\, with a 12:00pm registration and 1:00pm shotgun start. For more information\, to register\, or to help sponsor this event\, please call: 231.709.0534 or visit: http://www.thegoodsam.org/fore-for-fathers\n\n \n\n \n\n           This will be an 18-hole scramble format with carts provided\n\n           Cook-out style buffet included\n\n           $65 per person - 4-person teams\n\n           Individual registrations will be partnered with other individuals to produce a team\n\n           Please Pre-Register by June 1\n\n \n\n"There is a father absence crisis in America. According to the U.S. census bureau\, 24 million children\, 1 out of 3\, live without their biological father in the home. Consequently\, there is a father factor in nearly all social ills facing America today." HIS HOUSE is dedicated to coming along side these young men to provide the support and encouragement to be actively involved in the lives of their kids. We are reaching the men in our community and working with them to be the much-needed men that their families crave. This golf outing will not only be an opportunity to raise funds for HIS HOUSE\, but also for you to show your support for positive fatherhood in our community.
X-ALT-DESC;FMTTYPE=text/html:FORE! FOR FATHERS<br />\nHis House to Hold Charity Golf Scramble<br />\n&nbsp\;<br />\nThis year will mark the 2nd annual His House Charity Golf Scramble\, which directly benefits the fathers and families of Northern Michigan. This Scramble will be held on Friday\, June 7th at The Antrim Dells Golf Club &amp\; Restaurant\, one of Michigan&#39\;s premiere courses\, with a 12:00pm registration and 1:00pm shotgun start. For more information\, to register\, or to help sponsor this event\, please call: 231.709.0534 or visit:&nbsp\;<a href="http://www.thegoodsam.org/fore-for-fathers" rel="noreferrer" style="outline: 0px\; color: rgb(0\, 0\, 204)\;" target="_blank">http://www.thegoodsam.org/fore-for-fathers</a><br />\n&nbsp\;<br />\n&nbsp\;<br />\n&bull\;&nbsp\;&nbsp\;&nbsp\;&nbsp\;&nbsp\;&nbsp\;&nbsp\;&nbsp\;&nbsp\; This will be an 18-hole scramble format with carts provided<br />\n&bull\;&nbsp\;&nbsp\;&nbsp\;&nbsp\;&nbsp\;&nbsp\;&nbsp\;&nbsp\;&nbsp\; Cook-out style buffet included<br />\n&bull\;&nbsp\;&nbsp\;&nbsp\;&nbsp\;&nbsp\;&nbsp\;&nbsp\;&nbsp\;&nbsp\; $65 per person - 4-person teams<br />\n&bull\;&nbsp\;&nbsp\;&nbsp\;&nbsp\;&nbsp\;&nbsp\;&nbsp\;&nbsp\;&nbsp\; Individual registrations will be partnered with other individuals to produce a team<br />\n&bull\;&nbsp\;&nbsp\;&nbsp\;&nbsp\;&nbsp\;&nbsp\;&nbsp\;&nbsp\;&nbsp\; Please Pre-Register by June 1<br />\n&nbsp\;<br />\n&quot\;There is a father absence crisis in America. According to the U.S. census bureau\, 24 million children\, 1 out of 3\, live without their biological father in the home. Consequently\, there is a father factor in nearly all social ills facing America today.&quot\; HIS HOUSE is dedicated to coming along side these young men to provide the support and encouragement to be actively involved in the lives of their kids. We are reaching the men in our community and working with them to be the much-needed men that their families crave. This golf outing will not only be an opportunity to raise funds for HIS HOUSE\, but also for you to show your support for positive fatherhood in our community.<br />\n&nbsp\;<br />\n&nbsp\;
LOCATION:Antrim Dells Golf Club & Restaurant
UID:e.2409.19762
SEQUENCE:3
DTSTAMP:20260425T005401Z
URL:https://business.elkrapidschamber.org/events/details/charity-golf-scramble-19762
END:VEVENT

END:VCALENDAR
