BEGIN:VCALENDAR
VERSION:2.0
PRODID:-//ChamberMaster//Event Calendar 2.0//EN
METHOD:PUBLISH
X-PUBLISHED-TTL:P3D
REFRESH-INTERVAL:P3D
CALSCALE:GREGORIAN
BEGIN:VEVENT
DTSTART:20190718T200000Z
DTEND:20190718T220000Z
X-MICROSOFT-CDO-ALLDAYEVENT:FALSE
SUMMARY:Celebrating Space Exploration
DESCRIPTION:July 20th is the 50th anniversary of man's first landing on the moon and Raven Hill is celebrating! The Great Lakes Chamber Orchestra will perform a "Celestial Summer" concert under the pavilion. Check the Chamber events calendar for related events and activities.
X-ALT-DESC;FMTTYPE=text/html:July 20th is the 50th anniversary of man&#39\;s first landing on the moon and Raven Hill is celebrating! The Great Lakes Chamber Orchestra will perform a &quot\;Celestial Summer&quot\; concert under the pavilion. Check the Chamber events calendar for related events and activities.
LOCATION:Raven Hill Discovery Center 4737 Fuller Road East Jordan\, MI 49727
UID:e.2409.19325
SEQUENCE:3
DTSTAMP:20260424T193048Z
URL:https://business.elkrapidschamber.org/events/details/celebrating-space-exploration-19325
END:VEVENT

END:VCALENDAR
