BEGIN:VCALENDAR
VERSION:2.0
PRODID:-//ChamberMaster//Event Calendar 2.0//EN
METHOD:PUBLISH
X-PUBLISHED-TTL:P3D
REFRESH-INTERVAL:P3D
CALSCALE:GREGORIAN
BEGIN:VEVENT
DTSTART:20231209T220000Z
DTEND:20231210T010000Z
X-MICROSOFT-CDO-ALLDAYEVENT:FALSE
SUMMARY:Carols\, Cider\, and Cocoa at Townline Ciderworks
DESCRIPTION:Sing a long to popular Christmas carols from 5-6 pm and enjoy $5 cider pours from 5-8 pm.  Hot cocoa is on the house.
X-ALT-DESC;FMTTYPE=text/html:Sing a long to popular Christmas carols from 5-6 pm and enjoy $5 cider pours from 5-8 pm.&nbsp\; Hot cocoa is on the house.
LOCATION:
UID:e.2409.40326
SEQUENCE:3
DTSTAMP:20260419T180009Z
URL:https://business.elkrapidschamber.org/events/details/carols-cider-and-cocoa-at-townline-ciderworks-40326
END:VEVENT

END:VCALENDAR
