BEGIN:VCALENDAR
VERSION:2.0
PRODID:-//ChamberMaster//Event Calendar 2.0//EN
METHOD:PUBLISH
X-PUBLISHED-TTL:P3D
REFRESH-INTERVAL:P3D
CALSCALE:GREGORIAN
BEGIN:VEVENT
DTSTART:20190928T140000Z
DTEND:20190928T170000Z
X-MICROSOFT-CDO-ALLDAYEVENT:FALSE
SUMMARY:Career Exploring Kick Off!
DESCRIPTION:Students: Experience Exploring\, a hands-on career exploration club for middle and high school students that meets one Saturday a month during the school year. At this event\, we will have the first hands-on exploration of the school year. Learn about aviation careers using the NMC flight simulator. Each month will be focus on a different career sector. Find out more about what is planned for the rest of the year. -Parents: Attend the informational session during the first hour to learn more about this national organization\, the benefits of participation and how to register for the year.
X-ALT-DESC;FMTTYPE=text/html:Students: Experience Exploring\, a hands-on career exploration club for middle and high school students that meets one Saturday a month during the school year. At this event\, we will have the first hands-on exploration of the school year. Learn about aviation careers using the NMC flight simulator. Each month will be focus on a different career sector. Find out more about what is planned for the rest of the year. -Parents: Attend the informational session during the first hour to learn more about this national organization\, the benefits of participation and how to register for the year.
LOCATION:NMC Aeropark Campus\, Parsons- Stulen Building
UID:e.2409.21826
SEQUENCE:3
DTSTAMP:20260423T050054Z
URL:https://business.elkrapidschamber.org/events/details/career-exploring-kick-off-21826
END:VEVENT

END:VCALENDAR
