BEGIN:VCALENDAR
VERSION:2.0
PRODID:-//ChamberMaster//Event Calendar 2.0//EN
METHOD:PUBLISH
X-PUBLISHED-TTL:P3D
REFRESH-INTERVAL:P3D
CALSCALE:GREGORIAN
BEGIN:VEVENT
DTSTART:20190703T200000Z
DTEND:20190703T230000Z
X-MICROSOFT-CDO-ALLDAYEVENT:FALSE
SUMMARY:Car Wash
DESCRIPTION:Cherryland Middle School Students\n\nare having a car wash on:\n\n \n\nWednesday\, July 3\, 2019 from 4:00 - 7:00 p.m.\n\nat the Chamber located at 305 U.S. 31\n\nin Elk Rapids\n\nThey are working to raise money for the 8th Grade trip to Washington D.C.\n\nCome and help support their efforts!
X-ALT-DESC;FMTTYPE=text/html:<div style="font-family: Arial\, Verdana\, Helvetica\, sans-serif\; font-size: 14px\; background-color: rgb(208\, 236\, 242)\;"><span style="font-size: 18px\; font-weight: bold\;">Cherryland Middle School Students</span></div>\n\n<div style="font-family: Arial\, Verdana\, Helvetica\, sans-serif\; font-size: 14px\; background-color: rgb(208\, 236\, 242)\;"><span style="font-size: 16px\; font-weight: bold\;">are having a car wash on:</span></div>\n\n<div style="font-family: Arial\, Verdana\, Helvetica\, sans-serif\; font-size: 14px\; background-color: rgb(208\, 236\, 242)\;"><span style="font-size: 16px\; font-weight: bold\;">&#65279\;</span></div>\n\n<div style="font-family: Arial\, Verdana\, Helvetica\, sans-serif\; font-size: 14px\; background-color: rgb(208\, 236\, 242)\;"><span style="font-size: 16px\; font-weight: bold\;">Wednesday\, July 3\, 2019 from 4:00 - 7:00 p.m.</span></div>\n\n<div style="font-family: Arial\, Verdana\, Helvetica\, sans-serif\; font-size: 14px\; background-color: rgb(208\, 236\, 242)\;"><span style="font-size: 16px\; font-weight: bold\;">at the Chamber located at 305 U.S. 31</span></div>\n\n<div style="font-family: Arial\, Verdana\, Helvetica\, sans-serif\; font-size: 14px\; background-color: rgb(208\, 236\, 242)\;"><span style="font-size: 16px\; font-weight: bold\;">in Elk Rapids</span></div>\n\n<blockquote style="font-family: Arial\, Verdana\, Helvetica\, sans-serif\; font-size: 14px\; background-color: rgb(208\, 236\, 242)\;"><span style="font-size: 16px\; font-weight: bold\;">They are working to raise money for the 8th Grade trip to Washington D.C.</span></blockquote>\n\n<blockquote style="font-family: Arial\, Verdana\, Helvetica\, sans-serif\; font-size: 14px\; background-color: rgb(208\, 236\, 242)\;"><span style="font-size: 16px\; font-weight: bold\;">Come and help support their efforts!</span></blockquote>\n
LOCATION:Elk Rapids Area Chamber of Commerce
UID:e.2409.20199
SEQUENCE:3
DTSTAMP:20260424T193336Z
URL:https://business.elkrapidschamber.org/events/details/car-wash-20199
END:VEVENT

END:VCALENDAR
