BEGIN:VCALENDAR
VERSION:2.0
PRODID:-//ChamberMaster//Event Calendar 2.0//EN
METHOD:PUBLISH
X-PUBLISHED-TTL:P3D
REFRESH-INTERVAL:P3D
CALSCALE:GREGORIAN
BEGIN:VEVENT
DTSTART:20230214T230000Z
DTEND:20230215T013000Z
X-MICROSOFT-CDO-ALLDAYEVENT:FALSE
SUMMARY:Candle-Lit Winter Walk & Chocolate Wine Affair
DESCRIPTION:Romantic candle-lit walk around the grounds. Then enjoy a 4 pour tasting\, the perfect chocolate pairing to go along. End with a cozy bonfire and s'mores station
X-ALT-DESC;FMTTYPE=text/html:Romantic candle-lit walk around the grounds. Then enjoy a 4 pour tasting\, the perfect chocolate pairing to go along. End with a cozy bonfire and s&#39\;mores station
LOCATION:Castle Farms 5052 M-66 Charlevoix\, MI
UID:e.2409.35866
SEQUENCE:3
DTSTAMP:20260420T070629Z
URL:https://business.elkrapidschamber.org/events/details/candle-lit-winter-walk-chocolate-wine-affair-35866
END:VEVENT

END:VCALENDAR
