BEGIN:VCALENDAR
VERSION:2.0
PRODID:-//ChamberMaster//Event Calendar 2.0//EN
METHOD:PUBLISH
X-PUBLISHED-TTL:P3D
REFRESH-INTERVAL:P3D
CALSCALE:GREGORIAN
BEGIN:VEVENT
DTSTART:20210122T000000Z
DTEND:20210122T020000Z
X-MICROSOFT-CDO-ALLDAYEVENT:FALSE
SUMMARY:CANCELLED ZBA Elk Rapids Township Meeting
DESCRIPTION:
X-ALT-DESC;FMTTYPE=text/html:
LOCATION:Government Center 315 Bridge St Elk Rapids\, MI 49629
UID:e.2409.15696
SEQUENCE:3
DTSTAMP:20260421T210003Z
URL:https://business.elkrapidschamber.org/events/details/cancelled-zba-elk-rapids-township-meeting-01-21-2021-15696
END:VEVENT

END:VCALENDAR
