BEGIN:VCALENDAR
VERSION:2.0
PRODID:-//ChamberMaster//Event Calendar 2.0//EN
METHOD:PUBLISH
X-PUBLISHED-TTL:P3D
REFRESH-INTERVAL:P3D
CALSCALE:GREGORIAN
BEGIN:VEVENT
DTSTART:20200317T213000Z
DTEND:20200317T233000Z
X-MICROSOFT-CDO-ALLDAYEVENT:FALSE
SUMMARY:CANCELLED Introduction to Drawing
DESCRIPTION:This four part series is inspired by 'Drawing on the Right Side of the Brain' by Betty Edwards. Learn to see with the right mind-set\, explore ways to change and challenge your visual perception\, look at contours\, negative space\, and values. Look at perspective and learn to 'sight'\, which helps gauge distance and proportion accurately. All supplies are provided but you may bring some of your own. Instructor Christine Cook studied art at EMU Elk Rapids District Library Meeting Room March 10th\, 17th\, 24th and 31st 5:30 pm - 7:30 pm Call 231-264-9979 to register
X-ALT-DESC;FMTTYPE=text/html:This four part series is inspired by &#39\;Drawing on the Right Side of the Brain&#39\; by Betty Edwards. Learn to see with the right mind-set\, explore ways to change and challenge your visual perception\, look at contours\, negative space\, and values. Look at perspective and learn to &#39\;sight&#39\;\, which helps gauge distance and proportion accurately. All supplies are provided but you may bring some of your own. Instructor Christine Cook studied art at EMU Elk Rapids District Library Meeting Room March 10th\, 17th\, 24th and 31st 5:30 pm - 7:30 pm Call 231-264-9979 to register
LOCATION:Elk Rapids District Library 300 Isle of Pines Elk Rapids
UID:e.2409.23419
SEQUENCE:3
DTSTAMP:20260421T083456Z
URL:https://business.elkrapidschamber.org/events/details/cancelled-introduction-to-drawing-23419
END:VEVENT

END:VCALENDAR
