BEGIN:VCALENDAR
VERSION:2.0
PRODID:-//ChamberMaster//Event Calendar 2.0//EN
METHOD:PUBLISH
X-PUBLISHED-TTL:P3D
REFRESH-INTERVAL:P3D
CALSCALE:GREGORIAN
BEGIN:VEVENT
DTSTART:20230508T223000Z
DTEND:20230509T000000Z
X-MICROSOFT-CDO-ALLDAYEVENT:FALSE
SUMMARY:CANCELLED Harbor Commission Public Meeting
DESCRIPTION:
X-ALT-DESC;FMTTYPE=text/html:
LOCATION:
UID:e.2409.28386
SEQUENCE:3
DTSTAMP:20260420T035106Z
URL:https://business.elkrapidschamber.org/events/details/cancelled-harbor-commission-public-meeting-05-08-2023-28386
END:VEVENT

END:VCALENDAR
