BEGIN:VCALENDAR
VERSION:2.0
PRODID:-//ChamberMaster//Event Calendar 2.0//EN
METHOD:PUBLISH
X-PUBLISHED-TTL:P3D
REFRESH-INTERVAL:P3D
CALSCALE:GREGORIAN
BEGIN:VEVENT
DTSTART:20240117T140000Z
DTEND:20240117T160000Z
X-MICROSOFT-CDO-ALLDAYEVENT:FALSE
SUMMARY:Cancelled-ER Beautification Meeting
DESCRIPTION:https://elkrapids.org/document-center/#1614789040003-de0e05e6-5b74
X-ALT-DESC;FMTTYPE=text/html:<a href="https://elkrapids.org/document-center/#1614789040003-de0e05e6-5b74">https://elkrapids.org/document-center/#1614789040003-de0e05e6-5b74</a>
LOCATION:At Government Center
UID:e.2409.28093
SEQUENCE:3
DTSTAMP:20260419T133946Z
URL:https://business.elkrapidschamber.org/events/details/cancelled-er-beautification-meeting-28093
END:VEVENT

END:VCALENDAR
