BEGIN:VCALENDAR
VERSION:2.0
PRODID:-//ChamberMaster//Event Calendar 2.0//EN
METHOD:PUBLISH
X-PUBLISHED-TTL:P3D
REFRESH-INTERVAL:P3D
CALSCALE:GREGORIAN
BEGIN:VEVENT
DTSTART:20240120T170000Z
DTEND:20240120T190000Z
X-MICROSOFT-CDO-ALLDAYEVENT:FALSE
SUMMARY:CANCELLED Cocoa Crawl in Downtown Elk Rapids
DESCRIPTION:Event has been cancelled\, possibly will be in March\n\nCome Downtown Saturday\, January 20 for a fun and family friendly Cocoa Crawl!!!   \n\nSample some great cocoa and vote on your favorite!!!
X-ALT-DESC;FMTTYPE=text/html:<span style="color: rgb(5\, 5\, 5)\; font-family: &quot\;Segoe UI Historic&quot\;\, &quot\;Segoe UI&quot\;\, Helvetica\, Arial\, sans-serif\; font-size: 15px\; background-color: rgb(255\, 255\, 255)\;">Event has been cancelled\, possibly will be in March<br />\nCome Downtown Saturday\, January 20 for a fun and family friendly Cocoa Crawl!!!&nbsp\; &nbsp\;<br />\nSample some great cocoa and vote on your favorite!!!</span><br />\n<br />\n&nbsp\;
LOCATION:Downtown Elk Rapids
UID:e.2409.39846
SEQUENCE:3
DTSTAMP:20260419T121804Z
URL:https://business.elkrapidschamber.org/events/details/cancelled-cocoa-crawl-in-downtown-elk-rapids-39846
END:VEVENT

END:VCALENDAR
