BEGIN:VCALENDAR
VERSION:2.0
PRODID:-//ChamberMaster//Event Calendar 2.0//EN
METHOD:PUBLISH
X-PUBLISHED-TTL:P3D
REFRESH-INTERVAL:P3D
CALSCALE:GREGORIAN
BEGIN:VEVENT
DTSTART:20200905T140000Z
DTEND:20200905T200000Z
X-MICROSOFT-CDO-ALLDAYEVENT:FALSE
SUMMARY:CANCELLED Arts & Crafts Show
DESCRIPTION:Come enjoy our Annual Arts and Crafts Shows\, located in the heart of the village adjacent to beautiful Elk Rapids Harbor. Our shows feature more than 70 different artisans who display\, sell\, and demonstrate their work.\n\nTo participate as a vendor\, please download application:  2020 Art & Craft Show Application
X-ALT-DESC;FMTTYPE=text/html:<p class="MsoNormal"><span style="font-size: 12pt\;">Come enjoy our Annual Arts and Crafts Shows\, located in the heart of the village&nbsp\;adjacent to beautiful Elk Rapids Harbor. Our shows feature more than 70 different artisans who display\, sell\, and demonstrate their work.</span><br />\n<span style="display: inline !important\; float: none\; background-color: rgb(255\, 255\, 255)\; color: rgb(51\, 51\, 51)\; cursor: text\; font-family: sans-serif\,Arial\,Verdana\,&quot\;Trebuchet MS&quot\;\; font-size: 13px\; font-style: normal\; font-variant: normal\; font-weight: 400\; letter-spacing: normal\; line-height: 1.6\; orphans: 2\; text-align: left\; text-decoration: none\; text-indent: 0px\; text-transform: none\; -webkit-text-stroke-width: 0px\; white-space: normal\; word-spacing: 0px\;">To participate as a vendor\, please download application:&nbsp\; </span><a href="https://chambermaster.blob.core.windows.net/userfiles/UserFiles/chambers/2409/File/ArtsCraftsApp2020.pdf.pdf" style="color: rgb(7\, 130\, 193)\; font-family: sans-serif\,Arial\,Verdana\,&amp\;quot\;Trebuchet MS&amp\;quot\;\; font-size: 13px\; font-style: normal\; font-variant: normal\; font-weight: 400\; letter-spacing: normal\; orphans: 2\; text-align: left\; text-decoration: underline\; text-indent: 0px\; text-transform: none\; -webkit-text-stroke-width: 0px\; white-space: normal\; word-spacing: 0px\;">2020 Art &amp\; Craft Show Application</a><br />\n<span style="font-size: 12pt\;"><o:p></o:p></span></p>\n
LOCATION:Downtown Elk Rapids on River Street
UID:e.2409.22489
SEQUENCE:3
DTSTAMP:20260422T042426Z
URL:https://business.elkrapidschamber.org/events/details/cancelled-arts-crafts-show-22489
END:VEVENT

END:VCALENDAR
