BEGIN:VCALENDAR
VERSION:2.0
PRODID:-//ChamberMaster//Event Calendar 2.0//EN
METHOD:PUBLISH
X-PUBLISHED-TTL:P3D
REFRESH-INTERVAL:P3D
CALSCALE:GREGORIAN
BEGIN:VEVENT
DTSTART:20200723T230000Z
DTEND:20200724T013000Z
X-MICROSOFT-CDO-ALLDAYEVENT:FALSE
SUMMARY:CANCELLED Art Rapids! Free Concert in the Park
DESCRIPTION:Join us at the Walk of Art in Elk Rapids Day Park for the annual Free Concert in the Park.  Featuring "Stolen Silver"  Bring chairs\, blankets\, and picnics - arrive early or stay late to explore the sculpture exhibit. \n\nSponsored by Art Rapids! and the Elk Rapids Rotary Club.\n\nIn the event of rain\, concert will be held in the ER Highs School Auditorium
X-ALT-DESC;FMTTYPE=text/html:Join us at the Walk of Art in Elk Rapids Day Park for the annual Free Concert in the Park. &nbsp\;Featuring &quot\;Stolen Silver&quot\;&nbsp\; Bring chairs\, blankets\, and picnics - arrive early or stay late to explore the sculpture exhibit.&nbsp\;<br />\nSponsored by Art Rapids! and the Elk Rapids Rotary Club.<br />\nIn the event of rain\, concert will be held in the ER Highs School Auditorium
LOCATION:Elk Rapids Day Park S. Bayshore Dr. Elk Rapids\, MI
UID:e.2409.23753
SEQUENCE:3
DTSTAMP:20260422T074323Z
URL:https://business.elkrapidschamber.org/events/details/cancelled-art-rapids-free-concert-in-the-park-23753
END:VEVENT

END:VCALENDAR
