BEGIN:VCALENDAR
VERSION:2.0
PRODID:-//ChamberMaster//Event Calendar 2.0//EN
METHOD:PUBLISH
X-PUBLISHED-TTL:P3D
REFRESH-INTERVAL:P3D
CALSCALE:GREGORIAN
BEGIN:VEVENT
DTSTART:20200926T140000Z
DTEND:20200926T200000Z
X-MICROSOFT-CDO-ALLDAYEVENT:FALSE
SUMMARY:CANCELLED Acme Fall Festival
DESCRIPTION:A community celebration for the entire family featuring: ~ Craft Show & Demonstrations ~ Farmers Market & Bake Sale ~ Kids Activities (Pony Rides\, Bounce House\, Pumpkin Decoration and more) ~ Classic Car\, Tractor and Motorcycle Show ~ Food Tent (pulled pork\, hot dogs\, Moomers ice cream and other treats) ~ Silent Auction ~ Live Entertainment ~ Pie Baking Contest ~ Acme Princess Competition ~ Munson Hospice Memorial Monarch Release and educational Monarch Release by GT Butterfly House and Bug Zoo ~ Rural and Metro Fire Equipment\n\nCome Rain or Shine!
X-ALT-DESC;FMTTYPE=text/html:A community celebration for the entire family featuring: ~ Craft Show &amp\; Demonstrations ~ Farmers Market &amp\; Bake Sale ~ Kids Activities (Pony Rides\, Bounce House\, Pumpkin Decoration and more) ~ Classic Car\, Tractor and Motorcycle Show ~ Food Tent (pulled pork\, hot dogs\, Moomers ice cream and other treats) ~ Silent Auction ~ Live Entertainment ~ Pie Baking Contest ~ Acme Princess Competition ~ Munson Hospice Memorial Monarch Release and educational Monarch Release by GT Butterfly House and Bug Zoo ~ Rural and Metro Fire Equipment<br />\nCome Rain or Shine!
LOCATION:Flintfields Horse Park on Bates Road in Williamsburg
UID:e.2409.23000
SEQUENCE:3
DTSTAMP:20260422T043835Z
URL:https://business.elkrapidschamber.org/events/details/cancelled-acme-fall-festival-23000
END:VEVENT

END:VCALENDAR
