BEGIN:VCALENDAR
VERSION:2.0
PRODID:-//ChamberMaster//Event Calendar 2.0//EN
METHOD:PUBLISH
X-PUBLISHED-TTL:P3D
REFRESH-INTERVAL:P3D
CALSCALE:GREGORIAN
BEGIN:VEVENT
DTSTART:20231220T230000Z
DTEND:20231221T000000Z
X-MICROSOFT-CDO-ALLDAYEVENT:FALSE
SUMMARY:CANCELED Winter Solstice South Bath at ERDL
DESCRIPTION:Let the vibrations carry you away to a world of relaxation and reflection. It's the perfect season to be still\, to be present\, and to find your inner peace.\n\nJoin Rebecca Rankin as she leads a Winter Solstice Sound Bath at the Elk Rapids District Library on Wednesday December 20th from 6:00-7:00 pm.\n\nThis is a free event intended for adults\, please bring a yoga mat.
X-ALT-DESC;FMTTYPE=text/html:<div class="xdj266r x11i5rnm xat24cr x1mh8g0r x1vvkbs" style="margin: 0px\; overflow-wrap: break-word\; font-family: &quot\;Segoe UI Historic&quot\;\, &quot\;Segoe UI&quot\;\, Helvetica\, Arial\, sans-serif\; color: rgb(5\, 5\, 5)\; font-size: 15px\; background-color: rgb(255\, 255\, 255)\;">Let the vibrations carry you away to a world of relaxation and reflection. It&#39\;s the perfect season to be still\, to be present\, and to find your inner peace.</div>\n\n<div class="x11i5rnm xat24cr x1mh8g0r x1vvkbs xtlvy1s" style="margin: 0.5em 0px 0px\; overflow-wrap: break-word\; font-family: &quot\;Segoe UI Historic&quot\;\, &quot\;Segoe UI&quot\;\, Helvetica\, Arial\, sans-serif\; color: rgb(5\, 5\, 5)\; font-size: 15px\; background-color: rgb(255\, 255\, 255)\;">Join Rebecca Rankin as she leads a Winter Solstice Sound Bath at the Elk Rapids District Library on Wednesday December 20th from 6:00-7:00 pm.</div>\n\n<div class="x11i5rnm xat24cr x1mh8g0r x1vvkbs xtlvy1s" style="margin: 0.5em 0px 0px\; overflow-wrap: break-word\; font-family: &quot\;Segoe UI Historic&quot\;\, &quot\;Segoe UI&quot\;\, Helvetica\, Arial\, sans-serif\; color: rgb(5\, 5\, 5)\; font-size: 15px\; background-color: rgb(255\, 255\, 255)\;">This is a free event intended for adults\, please bring a yoga mat.</div>\n
LOCATION:300 Isle of Pines Elk Rapids
UID:e.2409.40306
SEQUENCE:3
DTSTAMP:20260419T175737Z
URL:https://business.elkrapidschamber.org/events/details/canceled-winter-solstice-south-bath-at-erdl-40306
END:VEVENT

END:VCALENDAR
