BEGIN:VCALENDAR
VERSION:2.0
PRODID:-//ChamberMaster//Event Calendar 2.0//EN
METHOD:PUBLISH
X-PUBLISHED-TTL:P3D
REFRESH-INTERVAL:P3D
CALSCALE:GREGORIAN
BEGIN:VEVENT
DTSTART:20231118T190000Z
DTEND:20231118T230000Z
X-MICROSOFT-CDO-ALLDAYEVENT:FALSE
SUMMARY:Camp Widow Market @Ethanology Distillation
DESCRIPTION:Join us November 18th for our inaugural Camp Widow Market!\n\nWe will be hosting local purveyors of fine goods\, gifts\, and collectables at the distillery from 2-6pm and afterward we will have live music from 7-10pm.\nPurveyors:\n\nTiny Traveling Boutique\n\n- Clothing\n\n- Handbags\n\n- Jewelry\n\n- Accessories\n\nAmy Kate Designs & Golden Hill Farms\n\n- Floral\n\n- Gift\n\n- Home\n\n- Garden\n\n- Traverse City Candle Co.\n\nBear Earth Herbals\n\n- Salves\n\n- Balms\n\n- Teas\n\n- Herbs\n\nOut of The Woods\n\n- Antrim County Maple Syrup\n\n- Maple Syrup Products\n\nSabores Y Colores food truck will be on-site from 1-9 with scratch Mexican.\n\nLive music from Peter Allen Jensen 7-10pm
X-ALT-DESC;FMTTYPE=text/html:<div background-color:="" class="xdj266r x11i5rnm xat24cr x1mh8g0r x1vvkbs" color:="" font-size:="" segoe="" style="margin: 0px\; overflow-wrap: break-word\; font-family: " ui="">Join us November 18th for our inaugural Camp Widow Market!</div>\n\n<div background-color:="" class="x11i5rnm xat24cr x1mh8g0r x1vvkbs xtlvy1s" color:="" font-size:="" segoe="" style="margin: 0.5em 0px 0px\; overflow-wrap: break-word\; font-family: " ui="">We will be hosting local purveyors of fine goods\, gifts\, and collectables at the distillery from 2-6pm and afterward we will have live music from 7-10pm.\n<div class="x11i5rnm xat24cr x1mh8g0r x1vvkbs xtlvy1s" style="margin: 0.5em 0px 0px\; overflow-wrap: break-word\; font-family: &quot\;Segoe UI Historic&quot\;\, &quot\;Segoe UI&quot\;\, Helvetica\, Arial\, sans-serif\; color: rgb(5\, 5\, 5)\; font-size: 15px\; background-color: rgb(255\, 255\, 255)\;">Purveyors:</div>\n\n<div class="x11i5rnm xat24cr x1mh8g0r x1vvkbs xtlvy1s" style="margin: 0.5em 0px 0px\; overflow-wrap: break-word\; font-family: &quot\;Segoe UI Historic&quot\;\, &quot\;Segoe UI&quot\;\, Helvetica\, Arial\, sans-serif\; color: rgb(5\, 5\, 5)\; font-size: 15px\; background-color: rgb(255\, 255\, 255)\;">Tiny Traveling Boutique<br />\n- Clothing<br />\n- Handbags<br />\n- Jewelry<br />\n- Accessories</div>\n\n<div class="x11i5rnm xat24cr x1mh8g0r x1vvkbs xtlvy1s" style="margin: 0.5em 0px 0px\; overflow-wrap: break-word\; font-family: &quot\;Segoe UI Historic&quot\;\, &quot\;Segoe UI&quot\;\, Helvetica\, Arial\, sans-serif\; color: rgb(5\, 5\, 5)\; font-size: 15px\; background-color: rgb(255\, 255\, 255)\;">Amy Kate Designs &amp\; Golden Hill Farms<br />\n- Floral<br />\n- Gift<br />\n- Home<br />\n- Garden<br />\n- Traverse City Candle Co.</div>\n\n<div class="x11i5rnm xat24cr x1mh8g0r x1vvkbs xtlvy1s" style="margin: 0.5em 0px 0px\; overflow-wrap: break-word\; font-family: &quot\;Segoe UI Historic&quot\;\, &quot\;Segoe UI&quot\;\, Helvetica\, Arial\, sans-serif\; color: rgb(5\, 5\, 5)\; font-size: 15px\; background-color: rgb(255\, 255\, 255)\;">Bear Earth Herbals<br />\n- Salves<br />\n- Balms<br />\n- Teas<br />\n- Herbs</div>\n\n<div class="x11i5rnm xat24cr x1mh8g0r x1vvkbs xtlvy1s" style="margin: 0.5em 0px 0px\; overflow-wrap: break-word\; font-family: &quot\;Segoe UI Historic&quot\;\, &quot\;Segoe UI&quot\;\, Helvetica\, Arial\, sans-serif\; color: rgb(5\, 5\, 5)\; font-size: 15px\; background-color: rgb(255\, 255\, 255)\;">Out of The Woods<br />\n- Antrim County Maple Syrup<br />\n- Maple Syrup Products</div>\n\n<div class="x11i5rnm xat24cr x1mh8g0r x1vvkbs xtlvy1s" style="margin: 0.5em 0px 0px\; overflow-wrap: break-word\; font-family: &quot\;Segoe UI Historic&quot\;\, &quot\;Segoe UI&quot\;\, Helvetica\, Arial\, sans-serif\; color: rgb(5\, 5\, 5)\; font-size: 15px\; background-color: rgb(255\, 255\, 255)\;">Sabores Y Colores food truck will be on-site from 1-9 with scratch Mexican.</div>\n\n<div class="x11i5rnm xat24cr x1mh8g0r x1vvkbs xtlvy1s" style="margin: 0.5em 0px 0px\; overflow-wrap: break-word\; font-family: &quot\;Segoe UI Historic&quot\;\, &quot\;Segoe UI&quot\;\, Helvetica\, Arial\, sans-serif\; color: rgb(5\, 5\, 5)\; font-size: 15px\; background-color: rgb(255\, 255\, 255)\;">Live music from Peter Allen Jensen 7-10pm</div>\n</div>\n
LOCATION:127 Ames St. Elk Rapids
UID:e.2409.39447
SEQUENCE:3
DTSTAMP:20260419T193201Z
URL:https://business.elkrapidschamber.org/events/details/camp-widow-market-ethanology-distillation-39447
END:VEVENT

END:VCALENDAR
