BEGIN:VCALENDAR
VERSION:2.0
PRODID:-//ChamberMaster//Event Calendar 2.0//EN
METHOD:PUBLISH
X-PUBLISHED-TTL:P3D
REFRESH-INTERVAL:P3D
CALSCALE:GREGORIAN
BEGIN:VEVENT
DTSTART:20191206T210000Z
DTEND:20191207T000000Z
X-MICROSOFT-CDO-ALLDAYEVENT:FALSE
SUMMARY:Cairn House Holiday Open House
DESCRIPTION:The Blackmore Family invites you to come and see the Cairn House all decked out in holiday decorations and enjoy friendship and refreshments!
X-ALT-DESC;FMTTYPE=text/html:<span style="color: rgb(255\, 255\, 255)\; font-family: Arial\, Verdana\, Helvetica\, sans-serif\; font-size: 16px\; font-weight: 700\; background-color: rgb(235\, 76\, 57)\;">The Blackmore Family invites you to come and see the Cairn House all decked out in holiday decorations and enjoy friendship and refreshments!</span>
LOCATION:Cairn House Bed & Breakfast
UID:e.2409.22386
SEQUENCE:3
DTSTAMP:20260419T142347Z
URL:https://business.elkrapidschamber.org/events/details/cairn-house-holiday-open-house-22386
END:VEVENT

END:VCALENDAR
