BEGIN:VCALENDAR
VERSION:2.0
PRODID:-//ChamberMaster//Event Calendar 2.0//EN
METHOD:PUBLISH
X-PUBLISHED-TTL:P3D
REFRESH-INTERVAL:P3D
CALSCALE:GREGORIAN
BEGIN:VEVENT
DTSTART:20191228T223000Z
DTEND:20191229T020000Z
X-MICROSOFT-CDO-ALLDAYEVENT:FALSE
SUMMARY:Buster Keaton's "The General" w/Dave Calendine
DESCRIPTION:The Music House's first Silent film of our series is a Buster Keaton Triple Feature of laughter! These films will be accompanied by Interlochen Arts Academy Staff Pianist\, Steve Larson.\n\n \n\nPlease join the Music House Museum on June 21 and 22 at 7:00PM for three classic Buster Keaton Shorts: The Convict"\, "Neighbors" and "The Haunted House"\, all accompanied by Interlochen pianist\, Steve Larson.
X-ALT-DESC;FMTTYPE=text/html:<div style="font-family: Arial\, Verdana\, Helvetica\, sans-serif\; font-size: 14px\; background-color: rgb(191\, 191\, 191)\;"><span style="color: rgb(28\, 30\, 33)\; font-family: Helvetica\, Arial\, sans-serif\; font-weight: bold\;">The Music House&rsquo\;s first Silent film of our series is a Buster Keaton Triple Feature of laughter! These films will be accompanied by Interlochen Arts Academy Staff Pianist\, Steve Larson.</span></div>\n\n<div style="font-family: Arial\, Verdana\, Helvetica\, sans-serif\; font-size: 14px\; background-color: rgb(191\, 191\, 191)\;">&nbsp\;</div>\n\n<div style="font-family: Arial\, Verdana\, Helvetica\, sans-serif\; font-size: 14px\; background-color: rgb(191\, 191\, 191)\;"><span style="color: rgb(28\, 30\, 33)\; font-family: Helvetica\, Arial\, sans-serif\; font-weight: bold\;">Please join the Music House Museum on June 21 and 22 at 7:00PM for three classic Buster Keaton Shorts: The Convict&quot\;\, &quot\;Neighbors&quot\; and &quot\;The Haunted House&quot\;\, all accompanied by Interlochen pianist\, Steve Larson.</span></div>\n
LOCATION:Music House Museum
UID:e.2409.22425
SEQUENCE:3
DTSTAMP:20260419T141745Z
URL:https://business.elkrapidschamber.org/events/details/buster-keaton-s-the-general-w-dave-calendine-22425
END:VEVENT

END:VCALENDAR
