BEGIN:VCALENDAR
VERSION:2.0
PRODID:-//ChamberMaster//Event Calendar 2.0//EN
METHOD:PUBLISH
X-PUBLISHED-TTL:P3D
REFRESH-INTERVAL:P3D
CALSCALE:GREGORIAN
BEGIN:VEVENT
DTSTART:20231116T220000Z
DTEND:20231117T000000Z
X-MICROSOFT-CDO-ALLDAYEVENT:FALSE
SUMMARY:Business After Hours at The Foundry
DESCRIPTION:Join us for Business After Hours at The Foundry\, the hosting sponsor. The Foundry along with presenting sponsor\, Amazon Hub will give a short update on their business.\n\nIt will be a fun evening with great food\, drinks\, and conversation.\n\nBring your business cards for a chance at the raffle!
X-ALT-DESC;FMTTYPE=text/html:<span background-color:="" font-size:="" segoe="" style="color: rgb(5\, 5\, 5)\; font-family: " ui="">Join us for Business After Hours at The Foundry\, the hosting sponsor. The Foundry along with presenting sponsor\, Amazon Hub will give a short update on their business.<br />\nIt will be a fun evening with great food\, drinks\, and conversation.<br />\nBring your business cards for a chance at the raffle!</span>
LOCATION:The Foundry 151 River Street Elk Rapids\, MI 49629
UID:e.2409.39429
SEQUENCE:3
DTSTAMP:20260419T193301Z
URL:https://business.elkrapidschamber.org/events/details/business-after-hours-at-the-foundry-39429
END:VEVENT

END:VCALENDAR
