BEGIN:VCALENDAR
VERSION:2.0
PRODID:-//ChamberMaster//Event Calendar 2.0//EN
METHOD:PUBLISH
X-PUBLISHED-TTL:P3D
REFRESH-INTERVAL:P3D
CALSCALE:GREGORIAN
BEGIN:VEVENT
DTSTART:20191212T220000Z
DTEND:20191213T000000Z
X-MICROSOFT-CDO-ALLDAYEVENT:FALSE
SUMMARY:Business After Hours at the Elk Rapids District Library
DESCRIPTION:Enjoy refreshments\, seasonal decorations\, and come dressed for an ugly Christmas sweater contest. Updates on the Library improvement project and Capital Campaign will be available.
X-ALT-DESC;FMTTYPE=text/html:<span style="color: rgb(0\, 0\, 0)\; font-family: Helvetica\, Arial\, sans-serif\; font-size: 14px\; font-style: normal\; font-variant-ligatures: normal\; font-variant-caps: normal\; font-weight: 400\; letter-spacing: normal\; orphans: 2\; text-align: left\; text-indent: 0px\; text-transform: none\; white-space: normal\; widows: 2\; word-spacing: 0px\; -webkit-text-stroke-width: 0px\; background-color: rgb(255\, 255\, 255)\; text-decoration-style: initial\; text-decoration-color: initial\; display: inline !important\; float: none\;">Enjoy refreshments\, seasonal decorations\, and come dressed for an ugly Christmas sweater contest. Updates on the Library improvement project and Capital Campaign will be available.</span>
LOCATION:300 Isle of Pines Elk Rapids
UID:e.2409.22078
SEQUENCE:3
DTSTAMP:20260419T140805Z
URL:https://business.elkrapidschamber.org/events/details/business-after-hours-at-the-elk-rapids-district-library-22078
END:VEVENT

END:VCALENDAR
