BEGIN:VCALENDAR
VERSION:2.0
PRODID:-//ChamberMaster//Event Calendar 2.0//EN
METHOD:PUBLISH
X-PUBLISHED-TTL:P3D
REFRESH-INTERVAL:P3D
CALSCALE:GREGORIAN
BEGIN:VEVENT
DTSTART:20240126T220000Z
DTEND:20240127T000000Z
X-MICROSOFT-CDO-ALLDAYEVENT:FALSE
SUMMARY:Business After Hours
DESCRIPTION:Join us for Business After Hours at Tinker Tailor\, the hosting sponsor.  \n\nThe shop highlights beautiful clothing\, you will be amazed at Rachele's talent as a seamstress! \n\nIt will be a fun evening with great food\, drinks\, and conversation.\n\nBring your business cards for a chance at the raffle!
X-ALT-DESC;FMTTYPE=text/html:<span style="background-color: rgb(255\, 255\, 255)\;"><font color="#050505">Join us for Business After Hours at Tinker Tailor\, the hosting sponsor.&nbsp\; </font><br />\n<font color="#050505">The shop highlights beautiful clothing\, you will be amazed at Rachele&#39\;s talent as a seamstress!&nbsp\;</font></span><br style="color: rgb(5\, 5\, 5)\; font-family: sans-serif\, Arial\, Verdana\, &quot\;Trebuchet MS&quot\;\; font-size: 13px\; background-color: rgb(255\, 255\, 255)\;" />\n<span style="color: rgb(5\, 5\, 5)\; font-family: sans-serif\, Arial\, Verdana\, &quot\;Trebuchet MS&quot\;\; font-size: 13px\; background-color: rgb(255\, 255\, 255)\;">It will be a fun evening with great food\, drinks\, and conversation.</span><br style="color: rgb(5\, 5\, 5)\; font-family: sans-serif\, Arial\, Verdana\, &quot\;Trebuchet MS&quot\;\; font-size: 13px\; background-color: rgb(255\, 255\, 255)\;" />\n<span style="color: rgb(5\, 5\, 5)\; font-family: sans-serif\, Arial\, Verdana\, &quot\;Trebuchet MS&quot\;\; font-size: 13px\; background-color: rgb(255\, 255\, 255)\;">Bring your business cards for a chance at the raffle!</span>
LOCATION:Tinker Tailor 125 River Street Elk Rapids\, MI 49629
UID:e.2409.41939
SEQUENCE:3
DTSTAMP:20260419T121520Z
URL:https://business.elkrapidschamber.org/events/details/business-after-hours-41939
END:VEVENT

END:VCALENDAR
