BEGIN:VCALENDAR
VERSION:2.0
PRODID:-//ChamberMaster//Event Calendar 2.0//EN
METHOD:PUBLISH
X-PUBLISHED-TTL:P3D
REFRESH-INTERVAL:P3D
CALSCALE:GREGORIAN
BEGIN:VEVENT
DTSTART:20190813T210000Z
DTEND:20190813T230000Z
X-MICROSOFT-CDO-ALLDAYEVENT:FALSE
SUMMARY:Business After Hours
DESCRIPTION:This month will be hosted by Fischer Insurance
X-ALT-DESC;FMTTYPE=text/html:This month will be hosted by Fischer Insurance
LOCATION:125 Ames Street Elk Rapids\, MI 49629
UID:e.2409.19353
SEQUENCE:3
DTSTAMP:20260424T063821Z
URL:https://business.elkrapidschamber.org/events/details/business-after-hours-19353
END:VEVENT

END:VCALENDAR
