BEGIN:VCALENDAR
VERSION:2.0
PRODID:-//ChamberMaster//Event Calendar 2.0//EN
METHOD:PUBLISH
X-PUBLISHED-TTL:P3D
REFRESH-INTERVAL:P3D
CALSCALE:GREGORIAN
BEGIN:VEVENT
DTSTART:20191011T130000Z
DTEND:20191011T180000Z
X-MICROSOFT-CDO-ALLDAYEVENT:FALSE
SUMMARY:Building Tomorrow
DESCRIPTION:During this unique experience\, students will find out what it's like to be a project manager\, a master electrician\, an engineer and more - direct from the people who do these jobs every day@ Building Tomorrow will expose students to exciting careers in the construction industry and get them inspired about their futures. \n\nFor more information & to sign up: www.nmc.edu/building-tomorrow.
X-ALT-DESC;FMTTYPE=text/html:During this unique experience\, students will find out what it's like to be a project manager\, a master electrician\, an engineer and more - direct from the people who do these jobs every day@ Building Tomorrow will expose students to exciting careers in the construction industry and get them inspired about their futures.&nbsp\;<br>\nFor more information &amp\; to sign up: www.nmc.edu/building-tomorrow.
LOCATION:Aero Park Lab at Northwestern Michigan College
UID:e.2409.21932
SEQUENCE:3
DTSTAMP:20260423T060515Z
URL:https://business.elkrapidschamber.org/events/details/building-tomorrow-21932
END:VEVENT

END:VCALENDAR
