BEGIN:VCALENDAR
VERSION:2.0
PRODID:-//ChamberMaster//Event Calendar 2.0//EN
METHOD:PUBLISH
X-PUBLISHED-TTL:P3D
REFRESH-INTERVAL:P3D
CALSCALE:GREGORIAN
BEGIN:VEVENT
DTSTART:20190216T180000Z
DTEND:20190216T193000Z
X-MICROSOFT-CDO-ALLDAYEVENT:FALSE
SUMMARY:Buds\, Bark\, and Branches
DESCRIPTION:How well can you identrify trees without leaves in the winter? Join us at Grass River Natural Area on Saturday\, February 16th at 1 pm to gain the skills to identify Michigan trees by their bark\, buds and branching patterns while taking a short hike on our beautiful trails with a naturalist. This 1.5 hour program is $5 per person. For more information visit grassriver.org. The entrance to Grass RIver Natural Area is located at 6500 Alden Highway\, Belaire\, MI.
X-ALT-DESC;FMTTYPE=text/html:How well can you identrify trees without leaves in the winter? Join us at Grass River Natural Area on Saturday\, February 16th at 1 pm to gain the skills to identify Michigan trees by their bark\, buds and branching patterns while taking a short hike on our beautiful trails with a naturalist. This 1.5 hour program is $5 per person. For more information visit grassriver.org. The entrance to Grass RIver Natural Area is located at 6500 Alden Highway\, Belaire\, MI.
LOCATION:Grass River Natural Area
UID:e.2409.18164
SEQUENCE:3
DTSTAMP:20260426T033533Z
URL:https://business.elkrapidschamber.org/events/details/buds-bark-and-branches-18164
END:VEVENT

END:VCALENDAR
