BEGIN:VCALENDAR
VERSION:2.0
PRODID:-//ChamberMaster//Event Calendar 2.0//EN
METHOD:PUBLISH
X-PUBLISHED-TTL:P3D
REFRESH-INTERVAL:P3D
CALSCALE:GREGORIAN
BEGIN:VEVENT
DTSTART:20240117T230000Z
DTEND:20240118T010000Z
X-MICROSOFT-CDO-ALLDAYEVENT:FALSE
SUMMARY:Brews & Bingo at Short's Pull Barn
DESCRIPTION:
X-ALT-DESC;FMTTYPE=text/html:
LOCATION:211 Industrial Park Drive\, Elk Rapids\, MI 49629
UID:e.2409.41949
SEQUENCE:3
DTSTAMP:20260419T121623Z
URL:https://business.elkrapidschamber.org/events/details/brews-bingo-at-short-s-pull-barn-01-17-2024-41949
END:VEVENT

END:VCALENDAR
