BEGIN:VCALENDAR
VERSION:2.0
PRODID:-//ChamberMaster//Event Calendar 2.0//EN
METHOD:PUBLISH
X-PUBLISHED-TTL:P3D
REFRESH-INTERVAL:P3D
CALSCALE:GREGORIAN
BEGIN:VEVENT
DTSTART:20241011T210000Z
DTEND:20241012T000000Z
X-MICROSOFT-CDO-ALLDAYEVENT:FALSE
SUMMARY:Breast Cancer Awareness Event at Dockside
DESCRIPTION:Join us for dinner and/or a drink! A percentage of all sales will go to ACHT. Rick Woods on guitar and a silent auction! Help support this worthy cause!
X-ALT-DESC;FMTTYPE=text/html:<span style="color: rgb(5\, 5\, 5)\; font-family: &quot\;Segoe UI Historic&quot\;\, &quot\;Segoe UI&quot\;\, Helvetica\, Arial\, sans-serif\; font-size: 15px\; background-color: rgb(255\, 255\, 255)\;">Join us for dinner and/or a drink! A percentage of all sales will go to ACHT. Rick Woods on guitar and a silent auction! Help support this worthy cause!</span>
LOCATION:640 Old Torch Lake Drive Bellaire\,
UID:e.2409.45524
SEQUENCE:3
DTSTAMP:20260424T201321Z
URL:https://business.elkrapidschamber.org/events/details/breast-cancer-awareness-event-at-dockside-45524
END:VEVENT

END:VCALENDAR
