BEGIN:VCALENDAR
VERSION:2.0
PRODID:-//ChamberMaster//Event Calendar 2.0//EN
METHOD:PUBLISH
X-PUBLISHED-TTL:P3D
REFRESH-INTERVAL:P3D
CALSCALE:GREGORIAN
BEGIN:VEVENT
DTSTART:20241010T193000Z
DTEND:20241010T213000Z
X-MICROSOFT-CDO-ALLDAYEVENT:FALSE
SUMMARY:Books' n Brie Book Club
DESCRIPTION:Books 'n Brie Book Club: THURSDAY\, OCTOBER 10th\, 3:30pm. Enjoy the company of fellow book lovers while discussing "The First Ladies" by Marie Benedict & V. Christopher Murray. Free Event. Sponsored by Alden District Library and held at Helena Township Community Center\, 8751 Helena Rd\, Alden\, 231-331-4318.
X-ALT-DESC;FMTTYPE=text/html:<span style="box-sizing: border-box\; font-weight: bolder\; color: rgb(44\, 54\, 58)\; font-family: Verdana\, Geneva\, sans-serif\; font-size: 13.3333px\; background-color: rgb(255\, 255\, 255)\;">Books &lsquo\;n Brie Book Club:</span><span style="color: rgb(44\, 54\, 58)\; font-family: Verdana\, Geneva\, sans-serif\; font-size: 13.3333px\; background-color: rgb(255\, 255\, 255)\;">&nbsp\;THURSDAY\, OCTOBER 10</span><span style="box-sizing: border-box\; position: relative\; font-size: 10px\; line-height: 0\; vertical-align: baseline\; top: -0.5em\; color: rgb(44\, 54\, 58)\; font-family: Verdana\, Geneva\, sans-serif\; background-color: rgb(255\, 255\, 255)\;">th</span><span style="color: rgb(44\, 54\, 58)\; font-family: Verdana\, Geneva\, sans-serif\; font-size: 13.3333px\; background-color: rgb(255\, 255\, 255)\;">\, 3:30pm. Enjoy the company of fellow book lovers while discussing &ldquo\;The First Ladies&rdquo\; by Marie Benedict &amp\; V. Christopher Murray. Free Event. Sponsored by Alden District Library and held at Helena Township Community Center\, 8751 Helena Rd\, Alden\, 231-331-4318.</span>
LOCATION:Helena Township Community Center 8751 Helena Rd. Alden
UID:e.2409.45506
SEQUENCE:3
DTSTAMP:20260424T201425Z
URL:https://business.elkrapidschamber.org/events/details/books-n-brie-book-club-45506
END:VEVENT

END:VCALENDAR
