BEGIN:VCALENDAR
VERSION:2.0
PRODID:-//ChamberMaster//Event Calendar 2.0//EN
METHOD:PUBLISH
X-PUBLISHED-TTL:P3D
REFRESH-INTERVAL:P3D
CALSCALE:GREGORIAN
BEGIN:VEVENT
DTSTART:20240111T203000Z
DTEND:20240111T223000Z
X-MICROSOFT-CDO-ALLDAYEVENT:FALSE
SUMMARY:Books 'n Brie Book Club
DESCRIPTION:Books 'n Brie Book Club: THURSDAY\, JANUARY 11th\, 3:30pm. Enjoy the company of fellow book lovers while discussing "Midnight In Chernobyl" by Adam Higginbothan. Free Event. Sponsored by Alden District Library and held at Helena Township Community Center\, 8751 Helena Rd\, Alden\, 231-331-4318.
X-ALT-DESC;FMTTYPE=text/html:<span style="box-sizing: border-box\; font-weight: bolder\; color: rgb(44\, 54\, 58)\; font-family: Verdana\, Geneva\, sans-serif\; font-size: 13.3333px\; background-color: rgb(255\, 255\, 255)\;">Books &lsquo\;n Brie Book Club:</span><span style="color: rgb(44\, 54\, 58)\; font-family: Verdana\, Geneva\, sans-serif\; font-size: 13.3333px\; background-color: rgb(255\, 255\, 255)\;">&nbsp\;THURSDAY\, JANUARY 11</span><span style="box-sizing: border-box\; position: relative\; font-size: 10px\; line-height: 0\; vertical-align: baseline\; top: -0.5em\; color: rgb(44\, 54\, 58)\; font-family: Verdana\, Geneva\, sans-serif\; background-color: rgb(255\, 255\, 255)\;">th</span><span style="color: rgb(44\, 54\, 58)\; font-family: Verdana\, Geneva\, sans-serif\; font-size: 13.3333px\; background-color: rgb(255\, 255\, 255)\;">\, 3:30pm. Enjoy the company of fellow book lovers while discussing &ldquo\;Midnight In Chernobyl&rdquo\; by Adam Higginbothan. Free Event. Sponsored by Alden District Library and held at Helena Township Community Center\, 8751 Helena Rd\, Alden\, 231-331-4318.</span>
LOCATION:
UID:e.2409.41122
SEQUENCE:3
DTSTAMP:20260419T121921Z
URL:https://business.elkrapidschamber.org/events/details/books-n-brie-book-club-41122
END:VEVENT

END:VCALENDAR
