BEGIN:VCALENDAR
VERSION:2.0
PRODID:-//ChamberMaster//Event Calendar 2.0//EN
METHOD:PUBLISH
X-PUBLISHED-TTL:P3D
REFRESH-INTERVAL:P3D
CALSCALE:GREGORIAN
BEGIN:VEVENT
DTSTART:20230608T193000Z
DTEND:20230608T213000Z
X-MICROSOFT-CDO-ALLDAYEVENT:FALSE
SUMMARY:Books' N Brie Book Club
DESCRIPTION:Enjoy the company of fellow book lovers while discussing "The Sweetness of Water" by Nathan Harris. Free of charge. Sponsored by Alden District Library and held at Helena Township Community Center\, 8751 Helena Rd\, Alden\, 231-331-4318.
X-ALT-DESC;FMTTYPE=text/html:<span style="color: rgb(44\, 54\, 58)\; font-family: Verdana\, Geneva\, sans-serif\; font-size: 13.3333px\; background-color: rgb(255\, 255\, 255)\;">Enjoy the company of fellow book lovers while discussing &ldquo\;The Sweetness of Water&rdquo\; by Nathan Harris. Free of charge. Sponsored by Alden District Library and held at Helena Township Community Center\, 8751 Helena Rd\, Alden\, 231-331-4318.</span>
LOCATION:Helena Township Community Center 8751 Helena Rd. Alden
UID:e.2409.37864
SEQUENCE:3
DTSTAMP:20260420T010905Z
URL:https://business.elkrapidschamber.org/events/details/books-n-brie-book-club-37864
END:VEVENT

END:VCALENDAR
