BEGIN:VCALENDAR
VERSION:2.0
PRODID:-//ChamberMaster//Event Calendar 2.0//EN
METHOD:PUBLISH
X-PUBLISHED-TTL:P3D
REFRESH-INTERVAL:P3D
CALSCALE:GREGORIAN
BEGIN:VEVENT
DTSTART:20230209T203000Z
DTEND:20230209T223000Z
X-MICROSOFT-CDO-ALLDAYEVENT:FALSE
SUMMARY:Books 'n Brie Book Club
DESCRIPTION:Enjoy light snacks\, beverages and the company of fellow book lovers while discussing "The Woman They Could Not Silence" by Kate Moore.  Free of charge. Sponsored by Alden District Library and held at Helena Township Community Center\, 8751 Helena Rd\, Alden\, 231-331-4318.
X-ALT-DESC;FMTTYPE=text/html:<span style="color: rgb(44\, 54\, 58)\; font-family: Verdana\, Geneva\, sans-serif\; font-size: 13.3333px\; background-color: rgb(255\, 255\, 255)\;">Enjoy light snacks\, beverages and the company of fellow book lovers while discussing &ldquo\;The Woman They Could Not Silence&rdquo\; by Kate Moore. &nbsp\;Free of charge. Sponsored by Alden District Library and held at Helena Township Community Center\, 8751 Helena Rd\, Alden\, 231-331-4318.</span>
LOCATION:
UID:e.2409.35442
SEQUENCE:3
DTSTAMP:20260420T071417Z
URL:https://business.elkrapidschamber.org/events/details/books-n-brie-book-club-35442
END:VEVENT

END:VCALENDAR
