BEGIN:VCALENDAR
VERSION:2.0
PRODID:-//ChamberMaster//Event Calendar 2.0//EN
METHOD:PUBLISH
X-PUBLISHED-TTL:P3D
REFRESH-INTERVAL:P3D
CALSCALE:GREGORIAN
BEGIN:VEVENT
DTSTART:20220908T193000Z
DTEND:20220908T213000Z
X-MICROSOFT-CDO-ALLDAYEVENT:FALSE
SUMMARY:Books 'n Brie Book Club
DESCRIPTION:Enjoy light snacks & beverages while making the reading selections for the next 11 months.  Sponsored by Alden District Library and Friends.
X-ALT-DESC;FMTTYPE=text/html:<span style="color: rgb(44\, 54\, 58)\; font-family: Verdana\, Geneva\, sans-serif\; font-size: 13.3333px\; background-color: rgb(255\, 255\, 255)\;">Enjoy light snacks &amp\; beverages while making the reading selections for the next 11 months.&nbsp\; Sponsored by Alden District Library and Friends.</span>
LOCATION:Helena Township Community Center 8751 Helene Road Alden\, MI
UID:e.2409.30729
SEQUENCE:3
DTSTAMP:20260420T154613Z
URL:https://business.elkrapidschamber.org/events/details/books-n-brie-book-club-30729
END:VEVENT

END:VCALENDAR
