BEGIN:VCALENDAR
VERSION:2.0
PRODID:-//ChamberMaster//Event Calendar 2.0//EN
METHOD:PUBLISH
X-PUBLISHED-TTL:P3D
REFRESH-INTERVAL:P3D
CALSCALE:GREGORIAN
BEGIN:VEVENT
DTSTART:20220903T140000Z
DTEND:20220903T180000Z
X-MICROSOFT-CDO-ALLDAYEVENT:FALSE
SUMMARY:Book Sale on the Porch
DESCRIPTION:Book Sale on the Porch: SATURDAY\, SEPTEMBER 3RD\, 10am-2pm\, rain or shine. Sponsored by Friends of the Alden District Library and held at Helena Township Community Center\, 8751 Helena Rd\, Alden\, 231-331-4318
X-ALT-DESC;FMTTYPE=text/html:<span style="box-sizing: border-box\; font-weight: bolder\; color: rgb(44\, 54\, 58)\; font-family: Verdana\, Geneva\, sans-serif\; font-size: 13.3333px\; background-color: rgb(255\, 255\, 255)\;">Book Sale on the Porch:&nbsp\;</span><span style="color: rgb(44\, 54\, 58)\; font-family: Verdana\, Geneva\, sans-serif\; font-size: 13.3333px\; background-color: rgb(255\, 255\, 255)\;">SATURDAY\, SEPTEMBER 3</span><span style="box-sizing: border-box\; position: relative\; font-size: 10px\; line-height: 0\; vertical-align: baseline\; top: -0.5em\; color: rgb(44\, 54\, 58)\; font-family: Verdana\, Geneva\, sans-serif\; background-color: rgb(255\, 255\, 255)\;">RD</span><span style="color: rgb(44\, 54\, 58)\; font-family: Verdana\, Geneva\, sans-serif\; font-size: 13.3333px\; background-color: rgb(255\, 255\, 255)\;">\, 10am-2pm\, rain or shine. Sponsored by Friends of the Alden District Library and held at Helena Township Community Center\, 8751 Helena Rd\, Alden\, 231-331-4318</span>
LOCATION:Alden District Library Helena Township community Center 8751 Helena Road Alden
UID:e.2409.30804
SEQUENCE:3
DTSTAMP:20260420T154936Z
URL:https://business.elkrapidschamber.org/events/details/book-sale-on-the-porch-30804
END:VEVENT

END:VCALENDAR
