BEGIN:VCALENDAR
VERSION:2.0
PRODID:-//ChamberMaster//Event Calendar 2.0//EN
METHOD:PUBLISH
X-PUBLISHED-TTL:P3D
REFRESH-INTERVAL:P3D
CALSCALE:GREGORIAN
BEGIN:VEVENT
DTSTART:20231118T140000Z
DTEND:20231118T200000Z
X-MICROSOFT-CDO-ALLDAYEVENT:FALSE
SUMMARY:Book Sale at the Alden District library
DESCRIPTION:Held in the Library during the TAAG Craft Show. Available items will be: Books\, DVDs\, CDs and Puzzles. Sponsored by Friends of the Alden District Library.  Located at 8751 Helena Rd\, Alden. 231-331-4318.
X-ALT-DESC;FMTTYPE=text/html:<span style="color: rgb(44\, 54\, 58)\; font-family: Verdana\, Geneva\, sans-serif\; font-size: 13.3333px\; background-color: rgb(255\, 255\, 255)\;">Held in the Library during the TAAG Craft Show. Available items will be: Books\, DVDs\, CDs and Puzzles. Sponsored by Friends of the Alden District Library.&nbsp\; Located at 8751 Helena Rd\, Alden. 231-331-4318.</span>
LOCATION:
UID:e.2409.39422
SEQUENCE:3
DTSTAMP:20260419T193511Z
URL:https://business.elkrapidschamber.org/events/details/book-sale-at-the-alden-district-library-39422
END:VEVENT

END:VCALENDAR
