BEGIN:VCALENDAR
VERSION:2.0
PRODID:-//ChamberMaster//Event Calendar 2.0//EN
METHOD:PUBLISH
X-PUBLISHED-TTL:P3D
REFRESH-INTERVAL:P3D
CALSCALE:GREGORIAN
BEGIN:VEVENT
DTSTART:20231106T200000Z
DTEND:20231106T220000Z
X-MICROSOFT-CDO-ALLDAYEVENT:FALSE
SUMMARY:Book Club for 4th-6th Grade Students
DESCRIPTION:4th-6th grade students are invited to meet after school at the ERDL for a drop-in style book club.  This is a chance to talk about books with peers and get assistance with reading goals and school requirements. Drop in anytime between 3 - 5 pm and talk books!
X-ALT-DESC;FMTTYPE=text/html:4th-6th grade students are invited to meet after school at the ERDL for a drop-in style book club.&nbsp\; This is a chance to talk about books with peers and get assistance with reading goals and school requirements. Drop in anytime between 3 - 5 pm and talk books!
LOCATION:
UID:e.2409.39701
SEQUENCE:3
DTSTAMP:20260419T193044Z
URL:https://business.elkrapidschamber.org/events/details/book-club-for-4th-6th-grade-students-39701
END:VEVENT

END:VCALENDAR
