BEGIN:VCALENDAR
VERSION:2.0
PRODID:-//ChamberMaster//Event Calendar 2.0//EN
METHOD:PUBLISH
X-PUBLISHED-TTL:P3D
REFRESH-INTERVAL:P3D
CALSCALE:GREGORIAN
BEGIN:VEVENT
DTSTART:20240128T170000Z
DTEND:20240129T010000Z
X-MICROSOFT-CDO-ALLDAYEVENT:FALSE
SUMMARY:Bloody Beer Bar at Short's Pull Barn
DESCRIPTION:Step right up to our electrifying Bloody Beer Bar! Quench your thirst by grabbing a Bloody Beer from the bar and decking it with our handpicked\, lip-smacking garnishes.\n\nAll this goodness for just $8 - Bloody Beer and garnishes included. But hurry\, it's available only while supplies last!
X-ALT-DESC;FMTTYPE=text/html:<div class="xdj266r x11i5rnm xat24cr x1mh8g0r x1vvkbs" style="margin: 0px\; overflow-wrap: break-word\; font-family: &quot\;Segoe UI Historic&quot\;\, &quot\;Segoe UI&quot\;\, Helvetica\, Arial\, sans-serif\; color: rgb(5\, 5\, 5)\; font-size: 15px\; background-color: rgb(255\, 255\, 255)\;">Step right up to our electrifying Bloody Beer Bar! Quench your thirst by grabbing a Bloody Beer from the bar and decking it with our handpicked\, lip-smacking garnishes.</div>\n\n<div class="x11i5rnm xat24cr x1mh8g0r x1vvkbs xtlvy1s" style="margin: 0.5em 0px 0px\; overflow-wrap: break-word\; font-family: &quot\;Segoe UI Historic&quot\;\, &quot\;Segoe UI&quot\;\, Helvetica\, Arial\, sans-serif\; color: rgb(5\, 5\, 5)\; font-size: 15px\; background-color: rgb(255\, 255\, 255)\;">All this goodness for just $8 - Bloody Beer and garnishes included. But hurry\, it&#39\;s available only while supplies last!</div>\n
LOCATION:211 Industrial Park Dr in Elk Rapids
UID:e.2409.40409
SEQUENCE:3
DTSTAMP:20260419T121735Z
URL:https://business.elkrapidschamber.org/events/details/bloody-beer-bar-at-sshort-s-pull-barn-01-28-2024-40409
END:VEVENT

END:VCALENDAR
