BEGIN:VCALENDAR
VERSION:2.0
PRODID:-//ChamberMaster//Event Calendar 2.0//EN
METHOD:PUBLISH
X-PUBLISHED-TTL:P3D
REFRESH-INTERVAL:P3D
CALSCALE:GREGORIAN
BEGIN:VEVENT
DTSTART:20241031T170000Z
DTEND:20241031T213000Z
X-MICROSOFT-CDO-ALLDAYEVENT:FALSE
SUMMARY:Blood Drive at Short's Pull Barn
DESCRIPTION:Get ready to roll up those sleeves and make a difference at our Blood Drive at the Pull Barn! Did you know that every 3 seconds\, someone in the U.S. needs blood? That's a whole lot of lifesaving! Last year alone\, more than 15 million red blood cells\, platelets\, and plasma were transfused. But here's the kicker only about three percent of Americans donate.\n\nSo\, why not join us\, have some fun\, and be a hero? Your donation helps save lives and keeps the good vibes flowing. See you at the Pull Barn for a chance to give back\, feel awesome\, and snap a $1 Pint Coupon!\n\nWalk-ins welcome (as schedule allows) or schedule your appointment HERE: https://donate.michigan.versiti.org/.../drive.../157096
X-ALT-DESC;FMTTYPE=text/html:<div class="xdj266r x11i5rnm xat24cr x1mh8g0r x1vvkbs" style="margin: 0px\; overflow-wrap: break-word\; font-family: &quot\;Segoe UI Historic&quot\;\, &quot\;Segoe UI&quot\;\, Helvetica\, Arial\, sans-serif\; color: rgb(5\, 5\, 5)\; font-size: 15px\; background-color: rgb(255\, 255\, 255)\;">Get ready to roll up those sleeves and make a difference at our Blood Drive at the Pull Barn! Did you know that every 3 seconds\, someone in the U.S. needs blood? That&rsquo\;s a whole lot of lifesaving! Last year alone\, more than 15 million red blood cells\, platelets\, and plasma were transfused. But here&rsquo\;s the kicker&mdash\;only about three percent of Americans donate.</div>\n\n<div class="x11i5rnm xat24cr x1mh8g0r x1vvkbs xtlvy1s" style="margin: 0.5em 0px 0px\; overflow-wrap: break-word\; font-family: &quot\;Segoe UI Historic&quot\;\, &quot\;Segoe UI&quot\;\, Helvetica\, Arial\, sans-serif\; color: rgb(5\, 5\, 5)\; font-size: 15px\; background-color: rgb(255\, 255\, 255)\;">So\, why not join us\, have some fun\, and be a hero? Your donation helps save lives and keeps the good vibes flowing. See you at the Pull Barn for a chance to give back\, feel awesome\, and snap a $1 Pint Coupon!</div>\n\n<div class="x11i5rnm xat24cr x1mh8g0r x1vvkbs xtlvy1s" style="margin: 0.5em 0px 0px\; overflow-wrap: break-word\; font-family: &quot\;Segoe UI Historic&quot\;\, &quot\;Segoe UI&quot\;\, Helvetica\, Arial\, sans-serif\; color: rgb(5\, 5\, 5)\; font-size: 15px\; background-color: rgb(255\, 255\, 255)\;">Walk-ins welcome (as schedule allows) or schedule your appointment HERE:&nbsp\;<a attributionsrc="/privacy_sandbox/comet/register/source/?xt=AZXkDn_AR7ZwdNcuJjhV-OmyRb8zV3EKIv8YLQzPTaPgKnt3AjqYbWpVKDxotdO9XNCYIdx5oLXiABbqQQYDk5IbAJhdf2hptSkzJGJuDRDin1K4KoJ--Fa4UjO3lpAMTzjd7puC_Pd9jkH-FTMhQxIm4E8CydSxAiUbF8dHmNcp0Cz1wmDdIMfnb9N-vbzjf4j16MQOzqvUqW-ocjESiLZoeI1j0uJSnjjmqlvoaa6n8ZO6SXpG0FKY6PfizAYib1fDSpYwB9VaVFvSXye-ACOCCxhomePVSSVDk2AJjIOH0v1b0ZCdUDe5yFZJzJxOYk8k-rlhHEH5gNJOZ5ghfeFPCK2Z2vxIjhGLZb3NBteQrBPoLzH5smckFQRz2cGdWsaHB0JILNwSCIy1eJJPxjMjmiWpN7cPvS5C0J-trYw5vkqqermDl4T8xZHGZ0_b3EFBo8sadEVVd262hirW3_XPBwAqLkaFvFcmcYuwnayP1nXSZY8DoR0v3FoOsMGzh2oXuCcZDkKsJDaeMZq8vPt-_xTylKTlCvmq_XNwSU0taz0ch4Kqn0denJp71_urMmcLFVPb274bqfMYnLTweJf1VzzRBXwx0qLenXRE39Na9E5XxV5lOh7OBPdywAb3LcFq1jWtb3F0A6obvrPjFsHXOzUL6g3OlF4cs8RNOGGz8vOBD43G2XA7GRs-Ue2B-a8W0BK917ZIRSDEX_fl_NuWzjJbJF30zUg9COncmurhJ5sAb3yrkCrAE4Hf252gae6KjX2M2DB6SqW1faGWHulz6EIuyD-oR2oN8cciXRvXb2c-jRYe87zgxP6doNm81xMaokTJ9G--tqq-U4b24y2JeaH2rdatJs1q8CRKqEg8KA" class="x1i10hfl xjbqb8w x1ejq31n xd10rxx x1sy0etr x17r0tee x972fbf xcfux6l x1qhh985 xm0m39n x9f619 x1ypdohk xt0psk2 xe8uvvx xdj266r x11i5rnm xat24cr x1mh8g0r xexx8yu x4uap5 x18d9i69 xkhd6sd x16tdsg8 x1hl2dhg xggy1nq x1a2a7pz x1sur9pj xkrqix3 x1fey0fg x1s688f" href="https://donate.michigan.versiti.org/donor/schedules/drive_schedule/157096?fbclid=IwZXh0bgNhZW0CMTAAAR1z4PcXocE51QicG0eJNyifA6wxyFiD9-oBoF0_DFjKW15BVMIWx6-HnPU_aem__Nv5q2uoaKZbN-lcElZfVw" rel="nofollow noreferrer" role="link" style="cursor: pointer\; text-decoration-line: none\; list-style: none\; margin: 0px\; text-align: inherit\; border-style: none\; padding: 0px\; box-sizing: border-box\; border-width: 0px\; outline: none\; -webkit-tap-highlight-color: transparent\; font-weight: 600\; touch-action: manipulation\; background-color: transparent\; display: inline\; font-family: inherit\;" tabindex="0" target="_blank">https://donate.michigan.versiti.org/.../drive.../157096</a></div>\n
LOCATION:
UID:e.2409.45526
SEQUENCE:3
DTSTAMP:20260424T200951Z
URL:https://business.elkrapidschamber.org/events/details/blood-drive-at-short-s-pull-barn-45526
END:VEVENT

END:VCALENDAR
