BEGIN:VCALENDAR
VERSION:2.0
PRODID:-//ChamberMaster//Event Calendar 2.0//EN
METHOD:PUBLISH
X-PUBLISHED-TTL:P3D
REFRESH-INTERVAL:P3D
CALSCALE:GREGORIAN
BEGIN:VEVENT
DTSTART:20190608T120000Z
DTEND:20190608T143000Z
X-MICROSOFT-CDO-ALLDAYEVENT:FALSE
SUMMARY:Birding by Kayak
DESCRIPTION:Paddle down beautiful Grass River with a naturalist on a 2.5 hour guided tour to learn the birds of Grass River by sight and song. Call GRNA to register: 231-350-9461. Adults Only.  Preregistration is required as space is limited. Cost is $25 per person with own kayak and $45 with rental. This program meets off-site at the end of Grass River Road off of M-88. No restrooms at launch site. More information at grassriver.org.
X-ALT-DESC;FMTTYPE=text/html:<span style="font-family: &quot\;Helvetica Neue&quot\;\, Helvetica\, Arial\, sans-serif\; font-size: 16px\; background-color: rgb(255\, 255\, 255)\;">Paddle down beautiful Grass River with a naturalist on a 2.5 hour guided tour to learn the birds of Grass River by sight and song. Call GRNA to register: 231-350-9461. Adults Only.&nbsp\;</span><strong style="font-family: &quot\;Helvetica Neue&quot\;\, Helvetica\, Arial\, sans-serif\; font-size: 16px\;">&#8203\;Preregistration is required as space is limited.</strong><span style="font-family: &quot\;Helvetica Neue&quot\;\, Helvetica\, Arial\, sans-serif\; font-size: 16px\; background-color: rgb(255\, 255\, 255)\;">&nbsp\;Cost is $25 per person with own kayak and $45 with rental. This program meets off-site at the end of Grass River Road off of M-88. No restrooms at launch site. More information at grassriver.org.</span>
LOCATION:Grass River Natural Area
UID:e.2409.18484
SEQUENCE:3
DTSTAMP:20260425T163257Z
URL:https://business.elkrapidschamber.org/events/details/birding-by-kayak-18484
END:VEVENT

END:VCALENDAR
