BEGIN:VCALENDAR
VERSION:2.0
PRODID:-//ChamberMaster//Event Calendar 2.0//EN
METHOD:PUBLISH
X-PUBLISHED-TTL:P3D
REFRESH-INTERVAL:P3D
CALSCALE:GREGORIAN
BEGIN:VEVENT
DTSTART:20191210T230000Z
DTEND:20191211T020000Z
X-MICROSOFT-CDO-ALLDAYEVENT:FALSE
SUMMARY:Bingo in Alden
DESCRIPTION:Bingo every Tuesday night at the Alden Library
X-ALT-DESC;FMTTYPE=text/html:Bingo every Tuesday night at the Alden Library
LOCATION:
UID:e.2409.4795
SEQUENCE:3
DTSTAMP:20260419T153336Z
URL:https://business.elkrapidschamber.org/events/details/bingo-in-alden-12-10-2019-4795
END:VEVENT

END:VCALENDAR
