BEGIN:VCALENDAR
VERSION:2.0
PRODID:-//ChamberMaster//Event Calendar 2.0//EN
METHOD:PUBLISH
X-PUBLISHED-TTL:P3D
REFRESH-INTERVAL:P3D
CALSCALE:GREGORIAN
BEGIN:VEVENT
DTSTART;VALUE=DATE:20190919
DTEND;VALUE=DATE:20190921
TRANSP:TRANSPARENT
X-MICROSOFT-CDO-ALLDAYEVENT:TRUE
SUMMARY:Bellaire Community Giving Thursday
DESCRIPTION:Participating businesses in Bellaire will donate a portion of their proceeds on Thursday\, September 19 to support Grass River Natural Area's mission. Please shop or dine in Bellaire on the 19th to show your support for the town and its generosity to GRNA.
X-ALT-DESC;FMTTYPE=text/html:<span style="color: rgb(29\, 34\, 40)\; font-family: &quot\;Helvetica Neue&quot\;\; font-size: 16px\; background-color: rgb(255\, 255\, 255)\;">Participating businesses in Bellaire will donate a portion of their proceeds on Thursday\, September 19 to support Grass River Natural Area&rsquo\;s mission. Please shop or dine in Bellaire on the 19th to show your support for the town and its generosity to GRNA.</span>
LOCATION:Downtown Bellaire
UID:e.2409.21812
SEQUENCE:3
DTSTAMP:20260423T073846Z
URL:https://business.elkrapidschamber.org/events/details/bellaire-community-giving-thursday-21812
END:VEVENT

END:VCALENDAR
