BEGIN:VCALENDAR
VERSION:2.0
PRODID:-//ChamberMaster//Event Calendar 2.0//EN
METHOD:PUBLISH
X-PUBLISHED-TTL:P3D
REFRESH-INTERVAL:P3D
CALSCALE:GREGORIAN
BEGIN:VEVENT
DTSTART:20190702T143000Z
DTEND:20190702T163000Z
X-MICROSOFT-CDO-ALLDAYEVENT:FALSE
SUMMARY:Beginners' Knitting with Kate Husband
DESCRIPTION:Beginners' Knitting with Kate Husband is a series of 4 FREE classes at the Elk Rapids District Library\, beginning on Tuesday\, July 2nd at 10:30 a.m.\, and continuing on the next 3 Tuesdays in July. Kate is an avid knitter and knitting teacher. A graduate of Elk Rapids High School and a diplomat with the foreign service\, Kate has taught people to knit on 4 continents. Her greatest joy is helping new knitters to become competent and confident. Please call the library at (231)264-9979 and REGISTER for these FREE classes.
X-ALT-DESC;FMTTYPE=text/html:<div style="color: rgb(29\, 34\, 40)\; font-family: &quot\;Helvetica Neue&quot\;\, Helvetica\, Arial\, sans-serif\; font-size: 13px\; background-color: rgb(255\, 255\, 255)\;"><strong>Beginners&#39\; Knitting with Kate Husband</strong>&nbsp\;is a series of 4 FREE classes at the Elk Rapids District Library\, beginning on Tuesday\, July 2nd at 10:30 a.m.\, and continuing on the next 3 Tuesdays in July. Kate is an avid knitter and knitting teacher. A graduate of Elk Rapids High School and a diplomat with the foreign service\, Kate has taught people to knit on 4 continents. Her greatest joy is helping new knitters to become competent and confident. Please call the library at (231)264-9979 and REGISTER for these FREE classes.</div>\n\n<div style="color: rgb(29\, 34\, 40)\; font-family: &quot\;Helvetica Neue&quot\;\, Helvetica\, Arial\, sans-serif\; font-size: 13px\; background-color: rgb(255\, 255\, 255)\;">&nbsp\;</div>\n
LOCATION:Elk Rapids District Library
UID:e.2409.20018
SEQUENCE:3
DTSTAMP:20260425T005608Z
URL:https://business.elkrapidschamber.org/events/details/beginners-knitting-with-kate-husband-20018
END:VEVENT

END:VCALENDAR
