BEGIN:VCALENDAR
VERSION:2.0
PRODID:-//ChamberMaster//Event Calendar 2.0//EN
METHOD:PUBLISH
X-PUBLISHED-TTL:P3D
REFRESH-INTERVAL:P3D
CALSCALE:GREGORIAN
BEGIN:VEVENT
DTSTART;VALUE=DATE:20220519
DTEND;VALUE=DATE:20220701
TRANSP:TRANSPARENT
X-MICROSOFT-CDO-ALLDAYEVENT:TRUE
SUMMARY:Beards Brewery Community Outreach Partnership
DESCRIPTION:Beards Brewery Community Outreach Partnership\n\nFri\, Apr 1 - Thu\, Jun 30\, 2022\n\nAll day\n\n216 E Lake St.\, Petoskey\, MI 40770\n\nBeards Brewery has invited the Watershed Council to partner with them for the months of April\, May\, and June. We'll have a dedicated tap at Beards (variety TBD)\, with proceeds from beer sales going to benefit our programs. Ask for our tap during those months when you visit the brewery. Beards wants to ensure a long-term partnership with our organization\, so stay tuned for updates on how they continue to protect our water resources. After all\, clean water makes great beer!
X-ALT-DESC;FMTTYPE=text/html:Beards Brewery Community Outreach Partnership<br />\nFri\, Apr 1 - Thu\, Jun 30\, 2022<br />\nAll day<br />\n216 E Lake St.\, Petoskey\, MI 40770<br />\nBeards Brewery has invited the Watershed Council to partner with them for the months of April\, May\, and June. We&rsquo\;ll have a dedicated tap at Beards (variety TBD)\, with proceeds from beer sales going to benefit our programs. Ask for our tap during those months when you visit the brewery. Beards wants to ensure a long-term partnership with our organization\, so stay tuned for updates on how they continue to protect our water resources. After all\, clean water makes great beer!
LOCATION:
UID:e.2409.30294
SEQUENCE:3
DTSTAMP:20260420T202637Z
URL:https://business.elkrapidschamber.org/events/details/beards-brewery-community-outreach-partnership-30294
END:VEVENT

END:VCALENDAR
