BEGIN:VCALENDAR
VERSION:2.0
PRODID:-//ChamberMaster//Event Calendar 2.0//EN
METHOD:PUBLISH
X-PUBLISHED-TTL:P3D
REFRESH-INTERVAL:P3D
CALSCALE:GREGORIAN
BEGIN:VEVENT
DTSTART:20190803T130000Z
DTEND:20190803T170000Z
X-MICROSOFT-CDO-ALLDAYEVENT:FALSE
SUMMARY:Bear River Cleanup
DESCRIPTION:Reminder: The 15th Annual Bear River Cleanup is this Saturday\, August 3rd!\n\n \n\nAugust 3\, 2019\n\nHealing the Bear - Bear River Cleanup\n\n9:00 a.m. - 1:00 p.m.\n\nBear River Shelter\, Quaintance Ave\, Petoskey\, MI\n\n \n\nCheck-in will begin at 9:00 a.m. at the Bear River Shelter.
X-ALT-DESC;FMTTYPE=text/html:<div align="center" style="color: rgb(54\, 73\, 95)\; font-family: Tahoma\, Geneva\, sans-serif\; font-size: 16px\; background-color: rgb(255\, 255\, 255)\; text-align: center\;"><span style="font-size: 22px\;">Reminder: The 15th Annual Bear River Cleanup is this Saturday\, August 3rd!</span></div>\n\n<div style="color: rgb(54\, 73\, 95)\; font-family: Tahoma\, Geneva\, sans-serif\; font-size: 16px\; background-color: rgb(255\, 255\, 255)\;">&nbsp\;</div>\n\n<div style="color: rgb(54\, 73\, 95)\; font-family: Tahoma\, Geneva\, sans-serif\; font-size: 16px\; background-color: rgb(255\, 255\, 255)\;"><span style="font-weight: bold\;">August 3\, 2019</span></div>\n\n<div style="color: rgb(54\, 73\, 95)\; font-family: Tahoma\, Geneva\, sans-serif\; font-size: 16px\; background-color: rgb(255\, 255\, 255)\;"><span style="color: rgb(0\, 117\, 230)\; font-weight: bold\;">Healing the Bear - Bear River Cleanup</span></div>\n\n<div style="color: rgb(54\, 73\, 95)\; font-family: Tahoma\, Geneva\, sans-serif\; font-size: 16px\; background-color: rgb(255\, 255\, 255)\;"><span style="font-weight: bold\;">9:00 a.m. - 1:00 p.m.</span></div>\n\n<div style="color: rgb(54\, 73\, 95)\; font-family: Tahoma\, Geneva\, sans-serif\; font-size: 16px\; background-color: rgb(255\, 255\, 255)\;">Bear River Shelter\, Quaintance Ave\, Petoskey\, MI</div>\n\n<div style="color: rgb(54\, 73\, 95)\; font-family: Tahoma\, Geneva\, sans-serif\; font-size: 16px\; background-color: rgb(255\, 255\, 255)\;">&nbsp\;</div>\n\n<div style="color: rgb(54\, 73\, 95)\; font-family: Tahoma\, Geneva\, sans-serif\; font-size: 16px\; background-color: rgb(255\, 255\, 255)\;">Check-in will begin at 9:00 a.m. at the Bear River Shelter.</div>\n
LOCATION:Bear River Shelter Quaintance Ave. Petoskey\, MI
UID:e.2409.20528
SEQUENCE:3
DTSTAMP:20260423T072014Z
URL:https://business.elkrapidschamber.org/events/details/bear-river-cleanup-20528
END:VEVENT

END:VCALENDAR
