BEGIN:VCALENDAR
VERSION:2.0
PRODID:-//ChamberMaster//Event Calendar 2.0//EN
METHOD:PUBLISH
X-PUBLISHED-TTL:P3D
REFRESH-INTERVAL:P3D
CALSCALE:GREGORIAN
BEGIN:VEVENT
DTSTART:20220518T233000Z
DTEND:20220519T003000Z
X-MICROSOFT-CDO-ALLDAYEVENT:FALSE
SUMMARY:Barry Ross Trio at Music House Museum
DESCRIPTION:The Music House is proud to present the Barry Ross Trio on May 18 at 7:30PM. Join crossover Violinist\, Barry Ross\, acclaimed Jazz Pianist Terry Lower\, and renowned Vocalist Lana Hoffman\, in "The Great American Songbook and All That Jazz".  Offering a thrilling evening of the most beloved music ever written\, with songs by Cole Porter\, Irving Berlin\, Duke Ellington\, Harold Arlen\, and George Gershwin\, including his immortal "Rhapsody in Blue".  Their renditions will delight your senses and evoke unblemished memories\n\nfeaturing\n\nLana Hoffman\, Vocals: Lana Hoffman is widely regarded as one of the Midwest's most versatile and engaging singers. Having performed the title role in Broadway's "A Closer Walk with Patsy Cline"\, she is also recognized as an accomplished jazz singer\, in collaboration with many fine jazz artists. She is a featured soloist with local big band orchestras including The Gull Lake Jazz Orchestra and The Otsego Jazz Ensemble.\n\nTerry Lower\, Piano: Terry Lower began piano lessons at the age of six\, and after studying at the prestigious Berklee College of Music in Boston\, Terry returned to his native state of Michigan\, and has been on the jazz scene for over 40 years. Considered by many to be a virtuoso jazz pianist\, his performances here and abroad include 2 jazz tours in Italy\, several stints on cruise ships\, and performances with Bernadette Peters\, the Mills Brothers\, the Nelson Riddle Orchestra\, and many jazz icons including Benny Golson and Frank Morgan.\n\nBarry Ross\, Violin: Barry Ross grew up in Boston and was the first violinist to receive a Doctor of Musical Arts degree from Yale University. In Michigan\, he served as Assistant Conductor and Concertmaster of the Kalamazoo Symphony Orchestra for 35 years\, during which he introduced the Family Discovery Concerts series and built the Kalamazoo Symphony Youth Concert programs. Ross is Professor Emeritus of Music at Kalamazoo College\, where he founded the Kalamazoo College and Community Orchestra and Chamber Orchestra\, now the Kalamazoo Philharmonia.\n\nAfter a decade of performing together\, this remarkable Kalamazoo trio is taking their show on the road for their only Traverse City appearance this year. You will not want to miss it
X-ALT-DESC;FMTTYPE=text/html:<p style="overflow-wrap: break-word\; margin: 0px 0px 9px\; padding: 0px\; border: 0px\; outline: 0px\; font-size: 12px\; vertical-align: baseline\; background: rgb(255\, 255\, 255)\; orphans: 4\; box-sizing: border-box\; color: rgb(51\, 51\, 51)\; font-family: Verdana\, Geneva\, sans-serif\;">The Music House is proud to present the Barry Ross Trio on May 18 at 7:30PM. Join crossover Violinist\, Barry Ross\, acclaimed Jazz Pianist Terry Lower\, and renowned Vocalist Lana Hoffman\, in &quot\;The Great American Songbook and All That Jazz&quot\;. &nbsp\;Offering a thrilling evening of the most beloved music ever written\, with songs by Cole Porter\, Irving Berlin\, Duke Ellington\, Harold Arlen\, and George Gershwin\, including his immortal &ldquo\;Rhapsody in Blue&rdquo\;. &nbsp\;Their renditions will delight your senses and evoke unblemished memories</p>\n\n<p style="overflow-wrap: break-word\; margin: 0px 0px 9px\; padding: 0px\; border: 0px\; outline: 0px\; font-size: 12px\; vertical-align: baseline\; background: rgb(255\, 255\, 255)\; orphans: 4\; box-sizing: border-box\; color: rgb(51\, 51\, 51)\; font-family: Verdana\, Geneva\, sans-serif\; text-align: center\;"><strong style="margin: 0px\; padding: 0px\; border: 0px\; outline: 0px\; vertical-align: baseline\; background: transparent\; box-sizing: border-box\;"><em style="margin: 0px\; padding: 0px\; border: 0px\; outline: 0px\; vertical-align: baseline\; background: transparent\; box-sizing: border-box\;">featuring</em></strong></p>\n\n<p style="overflow-wrap: break-word\; margin: 0px 0px 9px\; padding: 0px\; border: 0px\; outline: 0px\; font-size: 12px\; vertical-align: baseline\; background: rgb(255\, 255\, 255)\; orphans: 4\; box-sizing: border-box\; color: rgb(51\, 51\, 51)\; font-family: Verdana\, Geneva\, sans-serif\;"><strong style="margin: 0px\; padding: 0px\; border: 0px\; outline: 0px\; vertical-align: baseline\; background: transparent\; box-sizing: border-box\;">Lana Hoffman\, Vocals:&nbsp\;</strong>Lana Hoffman is widely regarded as one of the Midwest&rsquo\;s most versatile and engaging singers. Having performed the title role in Broadway&rsquo\;s &ldquo\;A Closer Walk with Patsy Cline&rdquo\;\, she is also recognized as an accomplished jazz singer\, in collaboration with many fine jazz artists. She is a featured soloist with local big band orchestras including The Gull Lake Jazz Orchestra and The Otsego Jazz Ensemble.</p>\n\n<p style="overflow-wrap: break-word\; margin: 0px 0px 9px\; padding: 0px\; border: 0px\; outline: 0px\; font-size: 12px\; vertical-align: baseline\; background: rgb(255\, 255\, 255)\; orphans: 4\; box-sizing: border-box\; color: rgb(51\, 51\, 51)\; font-family: Verdana\, Geneva\, sans-serif\;"><strong style="margin: 0px\; padding: 0px\; border: 0px\; outline: 0px\; vertical-align: baseline\; background: transparent\; box-sizing: border-box\;">Terry Lower\, Piano</strong>: Terry Lower began piano lessons at the age of six\, and after studying at the prestigious Berklee College of Music in Boston\, Terry returned to his native state of Michigan\, and has been on the jazz scene for over 40 years. Considered by many to be a virtuoso jazz pianist\, his performances here and abroad include 2 jazz tours in Italy\, several stints on cruise ships\, and performances with Bernadette Peters\, the Mills Brothers\, the Nelson Riddle Orchestra\, and many jazz icons including Benny Golson and Frank Morgan.</p>\n\n<p style="overflow-wrap: break-word\; margin: 0px 0px 9px\; padding: 0px\; border: 0px\; outline: 0px\; font-size: 12px\; vertical-align: baseline\; background: rgb(255\, 255\, 255)\; orphans: 4\; box-sizing: border-box\; color: rgb(51\, 51\, 51)\; font-family: Verdana\, Geneva\, sans-serif\;"><strong style="margin: 0px\; padding: 0px\; border: 0px\; outline: 0px\; vertical-align: baseline\; background: transparent\; box-sizing: border-box\;">Barry Ross\, Violin</strong>: Barry Ross grew up in Boston and was the first violinist to receive a Doctor of Musical Arts degree from Yale University. In Michigan\, he served as Assistant Conductor and Concertmaster of the Kalamazoo Symphony Orchestra for 35 years\, during which he introduced the Family Discovery Concerts series and built the Kalamazoo Symphony Youth Concert programs. Ross is Professor Emeritus of Music at Kalamazoo College\, where he founded the Kalamazoo College and Community Orchestra and Chamber Orchestra\, now the Kalamazoo Philharmonia.</p>\n\n<p style="overflow-wrap: break-word\; margin: 0px 0px 9px\; padding: 0px\; border: 0px\; outline: 0px\; font-size: 12px\; vertical-align: baseline\; background: rgb(255\, 255\, 255)\; orphans: 4\; box-sizing: border-box\; color: rgb(51\, 51\, 51)\; font-family: Verdana\, Geneva\, sans-serif\;">After a decade of performing together\, this remarkable Kalamazoo trio is taking their show on the road for their only Traverse City appearance this year. You will not want to miss it</p>\n
LOCATION:
UID:e.2409.30227
SEQUENCE:3
DTSTAMP:20260420T203010Z
URL:https://business.elkrapidschamber.org/events/details/barry-ross-trio-at-music-house-museum-30227
END:VEVENT

END:VCALENDAR
