BEGIN:VCALENDAR
VERSION:2.0
PRODID:-//ChamberMaster//Event Calendar 2.0//EN
METHOD:PUBLISH
X-PUBLISHED-TTL:P3D
REFRESH-INTERVAL:P3D
CALSCALE:GREGORIAN
BEGIN:VEVENT
DTSTART:20231205T170000Z
DTEND:20231206T010000Z
X-MICROSOFT-CDO-ALLDAYEVENT:FALSE
SUMMARY:Board Game Night at Short's Pull Barn
DESCRIPTION:Get ready for a Board Game Extravaganza at the Pull Barn! Whether you're lugging in your ultimate game or diving into our Pull Barn collection\, it's all about good times and friendly competition! So\, grab a pal or make a new one   let's roll those dice and spin some fun!
X-ALT-DESC;FMTTYPE=text/html:<span style="color: rgb(5\, 5\, 5)\; font-family: &quot\;Segoe UI Historic&quot\;\, &quot\;Segoe UI&quot\;\, Helvetica\, Arial\, sans-serif\; font-size: 15px\; background-color: rgb(255\, 255\, 255)\;">Get ready for a Board Game Extravaganza at the Pull Barn! Whether you&#39\;re lugging in your ultimate game or diving into our Pull Barn collection\, it&#39\;s all about good times and friendly competition! So\, grab a pal or make a new one &ndash\; let&#39\;s roll those dice and spin some fun!</span>
LOCATION:Short's Pull Barn 211 Industrial Park Drive Elk Rapids\, MI 49629
UID:e.2409.39316
SEQUENCE:3
DTSTAMP:20260419T175536Z
URL:https://business.elkrapidschamber.org/events/details/baord-game-night-at-short-s-pull-barn-12-05-2023-39316
END:VEVENT

END:VCALENDAR
