BEGIN:VCALENDAR
VERSION:2.0
PRODID:-//ChamberMaster//Event Calendar 2.0//EN
METHOD:PUBLISH
X-PUBLISHED-TTL:P3D
REFRESH-INTERVAL:P3D
CALSCALE:GREGORIAN
BEGIN:VEVENT
DTSTART:20190823T223000Z
DTEND:20190824T000000Z
X-MICROSOFT-CDO-ALLDAYEVENT:FALSE
SUMMARY:Balloons Over Bellaire
DESCRIPTION:Don't forget your camera for this special two-day event as we welcome back 20+ hot air balloonists to Shanty Creek and Bellaire.\n\n\n\nJoin us atop the slopes of Summit Mountain behind the Lakeview Hotel from 6-8pm on Friday and Saturday evenings as teams of balloonists take flight. With Lake Bellaire's backdrop the sky will come alive with color. There is no charge to attend. Enter through the Conference Center (north entrance) of the hotel. Parking is free.\n\n\n\nSpecial thanks to this year's sponsors: Alden State Bank\, Short's Brewing Company\, and of course The Dockside\, Sarducci's\, and The Shanty.\n\n\n\nNote: This event is weather dependent.\n\n \nSchedule\n \n\n\n\n\n\n\nFriday\, August 23\, 2019\n\n\n\n \n\n\n\n \n\n\n \n\n\n6:30 PM - 8:00 PM\n\n\nBalloon launches from the alpine tubing hill behind The Lakeview Hotel\n\n\n\n\n\n\n\n\n\n\nSaturday\, August 24\, 2019\n\n\n\n \n\n\n\n \n\n\n \n\n\n7:30 AM - 9:00 AM\n\n\nBalloon flight over Torch Lake\n\n\n\n\n\n\n \n\n\n \n\n\n6:30 PM - 8:00 PM\n\n\nBalloon launches from the alpine tubing hill behind The Lakeview Hotel
X-ALT-DESC;FMTTYPE=text/html:<span style="color: rgb(29\, 33\, 41)\; font-family: Helvetica\, Arial\, sans-serif\; font-size: 14px\; white-space: pre-wrap\; background-color: rgb(255\, 255\, 255)\;">Don&rsquo\;t forget your camera for this special two-day event as we welcome back 20+ hot air balloonists to Shanty Creek and Bellaire.</span><br style="color: rgb(29\, 33\, 41)\; font-family: Helvetica\, Arial\, sans-serif\; font-size: 14px\; white-space: pre-wrap\; background-color: rgb(255\, 255\, 255)\;" />\n<br style="color: rgb(29\, 33\, 41)\; font-family: Helvetica\, Arial\, sans-serif\; font-size: 14px\; white-space: pre-wrap\; background-color: rgb(255\, 255\, 255)\;" />\n<span style="color: rgb(29\, 33\, 41)\; font-family: Helvetica\, Arial\, sans-serif\; font-size: 14px\; white-space: pre-wrap\; background-color: rgb(255\, 255\, 255)\;">Join us atop the slopes of Summit Mountain behind the Lakeview Hotel from 6-8pm on Friday and Saturday evenings as teams of balloonists take flight. With Lake Bellaire&rsquo\;s backdrop the sky will come alive with color. There is no charge to attend. Enter through the Conference Center (north entrance) of the hotel. Parking is free.</span><br style="color: rgb(29\, 33\, 41)\; font-family: Helvetica\, Arial\, sans-serif\; font-size: 14px\; white-space: pre-wrap\; background-color: rgb(255\, 255\, 255)\;" />\n<br style="color: rgb(29\, 33\, 41)\; font-family: Helvetica\, Arial\, sans-serif\; font-size: 14px\; white-space: pre-wrap\; background-color: rgb(255\, 255\, 255)\;" />\n<span style="color: rgb(29\, 33\, 41)\; font-family: Helvetica\, Arial\, sans-serif\; font-size: 14px\; white-space: pre-wrap\; background-color: rgb(255\, 255\, 255)\;">Special thanks to this year&rsquo\;s sponsors: Alden State Bank\, Short&rsquo\;s Brewing Company\, and of course The Dockside\, Sarducci&rsquo\;s\, and The Shanty.</span><br style="color: rgb(29\, 33\, 41)\; font-family: Helvetica\, Arial\, sans-serif\; font-size: 14px\; white-space: pre-wrap\; background-color: rgb(255\, 255\, 255)\;" />\n<br style="color: rgb(29\, 33\, 41)\; font-family: Helvetica\, Arial\, sans-serif\; font-size: 14px\; white-space: pre-wrap\; background-color: rgb(255\, 255\, 255)\;" />\n<span style="color: rgb(29\, 33\, 41)\; font-family: Helvetica\, Arial\, sans-serif\; font-size: 14px\; white-space: pre-wrap\; background-color: rgb(255\, 255\, 255)\;">Note: This event is weather dependent.</span><br />\n&nbsp\;\n<div class="_4l8p _5dw9 _5dwa _4-u3" style="line-height: 18px\; overflow: hidden\; padding: 14px 12px 12px\; position: relative\; border-top: none\; min-height: auto\; border-top-left-radius: 3px\; border-top-right-radius: 3px\; font-family: Helvetica\, Arial\, sans-serif\; color: rgb(29\, 33\, 41)\; font-size: 12px\;"><span class="_4l8q _38my" itemcomponent="span" style="font-size: 14px\; font-weight: 600\; line-height: 18px\; margin: 0px\; padding: 0px\; font-family: inherit\;">Schedule</span>\n<div class="_3s3-" style="clear: both\; font-family: inherit\;">&nbsp\;</div>\n</div>\n\n<div class="_62hs _4-u3" style="border-top: 1px solid rgb(229\, 229\, 229)\; border-bottom-left-radius: 3px\; border-bottom-right-radius: 3px\; font-family: Helvetica\, Arial\, sans-serif\; color: rgb(29\, 33\, 41)\; font-size: 12px\;">\n<div style="font-family: inherit\;">\n<div style="font-family: inherit\;">\n<div style="font-family: inherit\;">\n<div class="_6euo" style="color: rgb(96\, 103\, 112)\; font-size: 14px\; font-weight: 600\; line-height: 18px\; padding: 8px 0px 18px 12px\; font-family: inherit\;">Friday\, August 23\, 2019</div>\n</div>\n\n<div class="_6fzz" style="display: flex\; margin-right: 16px\; max-width: 500px\; font-family: inherit\;">\n<div class="_6ins" style="margin: 16px 0px 40px 16px\; font-family: inherit\;">&nbsp\;</div>\n\n<div style="font-family: inherit\;">\n<div class="_6int" style="display: flex\; max-width: 500px\; font-family: inherit\;">\n<div style="font-family: inherit\;">&nbsp\;</div>\n\n<div class="_6f1m" style="display: flex\; font-family: inherit\;">\n<div class="_6f1o" style="background-color: rgb(204\, 208\, 213)\; border-radius: 50%\; height: 9px\; margin: 10px 0px 0px -5px\; width: 9px\; font-family: inherit\;">&nbsp\;</div>\n\n<div style="font-family: inherit\;">\n<div class="_6eup" style="color: rgb(224\, 76\, 96)\; line-height: 16px\; max-width: 440px\; padding-left: 16px\; font-family: inherit\;"><span style="font-family: inherit\;">6:30 PM - 8:00 PM</span></div>\n\n<div class="_6euq" style="color: rgb(28\, 30\, 33)\; font-size: 14px\; line-height: 18px\; max-width: 440px\; padding: 0px 0px 16px 16px\; overflow-wrap: break-word\; font-family: inherit\;">\n<div style="font-family: inherit\;">Balloon launches from the alpine tubing hill behind The Lakeview Hotel</div>\n</div>\n</div>\n</div>\n</div>\n</div>\n</div>\n</div>\n\n<div style="font-family: inherit\;">\n<div style="font-family: inherit\;">\n<div class="_6euo" style="color: rgb(96\, 103\, 112)\; font-size: 14px\; font-weight: 600\; line-height: 18px\; padding: 8px 0px 18px 12px\; font-family: inherit\;">Saturday\, August 24\, 2019</div>\n</div>\n\n<div class="_6fzz" style="display: flex\; margin-right: 16px\; max-width: 500px\; font-family: inherit\;">\n<div class="_6ins" style="margin: 16px 0px 40px 16px\; font-family: inherit\;">&nbsp\;</div>\n\n<div style="font-family: inherit\;">\n<div class="_6int" style="display: flex\; max-width: 500px\; font-family: inherit\;">\n<div class="_6f1n" style="border-left: 1px dashed rgb(204\, 208\, 213)\; margin-bottom: -12px\; margin-top: 14px\; font-family: inherit\;">&nbsp\;</div>\n\n<div class="_6f1m" style="display: flex\; font-family: inherit\;">\n<div class="_6f1o" style="background-color: rgb(204\, 208\, 213)\; border-radius: 50%\; height: 9px\; margin: 10px 0px 0px -5px\; width: 9px\; font-family: inherit\;">&nbsp\;</div>\n\n<div style="font-family: inherit\;">\n<div class="_6eup" style="color: rgb(224\, 76\, 96)\; line-height: 16px\; max-width: 440px\; padding-left: 16px\; font-family: inherit\;"><span style="font-family: inherit\;">7:30 AM - 9:00 AM</span></div>\n\n<div class="_6euq" style="color: rgb(28\, 30\, 33)\; font-size: 14px\; line-height: 18px\; max-width: 440px\; padding: 0px 0px 16px 16px\; overflow-wrap: break-word\; font-family: inherit\;">\n<div style="font-family: inherit\;">Balloon flight over Torch Lake</div>\n</div>\n</div>\n</div>\n</div>\n\n<div class="_6int" style="display: flex\; max-width: 500px\; font-family: inherit\;">\n<div style="font-family: inherit\;">&nbsp\;</div>\n\n<div class="_6f1m" style="display: flex\; font-family: inherit\;">\n<div class="_6f1o" style="background-color: rgb(204\, 208\, 213)\; border-radius: 50%\; height: 9px\; margin: 10px 0px 0px -5px\; width: 9px\; font-family: inherit\;">&nbsp\;</div>\n\n<div style="font-family: inherit\;">\n<div class="_6eup" style="color: rgb(224\, 76\, 96)\; line-height: 16px\; max-width: 440px\; padding-left: 16px\; font-family: inherit\;"><span style="font-family: inherit\;">6:30 PM - 8:00 PM</span></div>\n\n<div class="_6euq" style="color: rgb(28\, 30\, 33)\; font-size: 14px\; line-height: 18px\; max-width: 440px\; padding: 0px 0px 16px 16px\; overflow-wrap: break-word\; font-family: inherit\;">\n<div style="font-family: inherit\;">Balloon launches from the alpine tubing hill behind The Lakeview Hotel</div>\n</div>\n</div>\n</div>\n</div>\n</div>\n</div>\n</div>\n</div>\n</div>\n
LOCATION:
UID:e.2409.20640
SEQUENCE:3
DTSTAMP:20260423T033243Z
URL:https://business.elkrapidschamber.org/events/details/balloons-over-bellaire-20640
END:VEVENT

END:VCALENDAR
