BEGIN:VCALENDAR
VERSION:2.0
PRODID:-//ChamberMaster//Event Calendar 2.0//EN
METHOD:PUBLISH
X-PUBLISHED-TTL:P3D
REFRESH-INTERVAL:P3D
CALSCALE:GREGORIAN
BEGIN:VEVENT
DTSTART:20191026T170000Z
DTEND:20191026T190000Z
X-MICROSOFT-CDO-ALLDAYEVENT:FALSE
SUMMARY:Autumn Reflections Art class
DESCRIPTION:Fall is a time of spectacular clouds and brilliant reflections. Class participants will use a variety of media (pastels\, pencil\, watercolors\, etc.) to capture the colors of the season with naturalist and artist\, Arlene Westhoven.  More information at grassriver.org. Grass River Natural Area is located at 6500 Alden Highway\, Bellaire MI.
X-ALT-DESC;FMTTYPE=text/html:<p class="yiv1254095271MsoPlainText" style="color: rgb(29\, 34\, 40)\; font-family: &quot\;Helvetica Neue&quot\;\, Helvetica\, Arial\, sans-serif\; font-size: 13px\; background-color: rgb(255\, 255\, 255)\; margin-left: 112.5pt\;"><span style="font-size: 12pt\; color: black\; background-image: initial\; background-position: initial\; background-size: initial\; background-repeat: initial\; background-attachment: initial\; background-origin: initial\; background-clip: initial\;">Fall is a time of spectacular clou</span><span style="font-size: 12pt\; color: black\; background-image: initial\; background-position: initial\; background-size: initial\; background-repeat: initial\; background-attachment: initial\; background-origin: initial\; background-clip: initial\;">ds and brilliant reflections. Class participants</span><span style="font-size: 12pt\; color: black\; background-image: initial\; background-position: initial\; background-size: initial\; background-repeat: initial\; background-attachment: initial\; background-origin: initial\; background-clip: initial\;">&nbsp\;will use a variety of media (pastels\, pencil\, watercolors\, etc.) to capture the colors of the season with naturalist and artist\, Arlene Westhoven.</span><span style="font-size: 12pt\; color: black\; background-image: initial\; background-position: initial\; background-size: initial\; background-repeat: initial\; background-attachment: initial\; background-origin: initial\; background-clip: initial\;">&nbsp\;&nbsp\;</span><span style="font-size: 12pt\;">More information at grassriver.org. Grass River Natural Area is located at 6500 Alden Highway\, Bellaire MI.</span></p>\n\n<p class="yiv1254095271MsoNormal" style="color: rgb(29\, 34\, 40)\; font-family: &quot\;Helvetica Neue&quot\;\, Helvetica\, Arial\, sans-serif\; font-size: 13px\; background-color: rgb(255\, 255\, 255)\;"><span style="font-size: 12pt\;">&nbsp\;</span></p>\n
LOCATION:Grass River Natural Area 6500 Alden Highway Bellaire\, MI
UID:e.2409.21973
SEQUENCE:3
DTSTAMP:20260422T125116Z
URL:https://business.elkrapidschamber.org/events/details/autumn-reflections-art-class-21973
END:VEVENT

END:VCALENDAR
